| oneChannelGUI 1.19.3 Raffaele A Calogero
 
 | Snapshot Date: 2011-05-09 07:20:56 -0700 (Mon, 09 May 2011) |  | URL: https://hedgehog.fhcrc.org/bioconductor/trunk/madman/Rpacks/oneChannelGUI |  | Last Changed Rev: 55092 / Revision: 55359 |  | Last Changed Date: 2011-04-26 23:25:21 -0700 (Tue, 26 Apr 2011) | 
 | wilson2 | Linux (openSUSE 11.4) / x86_64 | OK | WARNINGS |  | 
| liverpool | Windows Server 2003 R2 (32-bit) / x64 | OK | WARNINGS | OK | 
| gewurz | Windows Server 2008 R2 Enterprise (64-bit) / x64 | OK | WARNINGS | OK | 
| pelham | Mac OS X Leopard (10.5.8) / i386 | OK | WARNINGS | [ OK ] | 
>>>>>>> 
>>>>>>> INSTALLATION WITH 'R CMD INSTALL --preclean --library=oneChannelGUI.buildbin-libdir oneChannelGUI_1.19.3.tar.gz'
>>>>>>> 
* installing *source* package ‘oneChannelGUI’ ...
** R
** data
** inst
** preparing package for lazy loading
Welcome to Bioconductor
  Vignettes contain introductory material. To view, type
  'browseVignettes()'. To cite Bioconductor, see
  'citation("Biobase")' and for packages 'citation("pkgname")'.
Loading required package: tcltk
Loading Tcl/Tk interface ... done
Loading required package: affy
Loading required package: affyio
Loading required package: widgetTools
Loading required package: DynDoc
Loading required package: tools
Loading required package: Category
Loading required package: AnnotationDbi
Loading required package: graph
Loading required package: DBI
Attaching package: ‘IRanges’
The following object(s) are masked from ‘package:graph’:
    union
The following object(s) are masked from ‘package:Biobase’:
    updateObject
The following object(s) are masked from ‘package:base’:
    Map, cbind, eval, intersect, mapply, order, paste, pmax, pmax.int,
    pmin, pmin.int, rbind, rep.int, setdiff, table, union
Attaching package: ‘baySeq’
The following object(s) are masked from ‘package:IRanges’:
    rbind
The following object(s) are masked from ‘package:base’:
    rbind
Loading required package: Rsamtools
Loading required package: GenomicRanges
Loading required package: Biostrings
Attaching package: ‘Biostrings’
The following object(s) are masked from ‘package:graph’:
    complement
Attaching package: ‘Rsamtools’
The following object(s) are masked from ‘package:DynDoc’:
    path
Loading required package: ShortRead
Loading required package: lattice
Attaching package: ‘ShortRead’
The following object(s) are masked from ‘package:affy’:
    intensity
Loading required package: intervals
Attaching package: ‘intervals’
The following object(s) are masked from ‘package:Biostrings’:
    type
The following object(s) are masked from ‘package:IRanges’:
    reduce
Loading required package: genomeIntervals
Attaching package: ‘genomeIntervals’
The following object(s) are masked from ‘package:GenomicRanges’:
    strand, strand<-
Loading required package: grid
** help
*** installing help indices
** building package indices ...
*** tangling vignette sources ...
   ‘NGS.Rnw’ 
   ‘install.Rnw’ 
   ‘oneChannelGUI.Rnw’ 
   ‘standAloneFunctions.Rnw’ 
   ‘whatIsNew.Rnw’ 
** testing if installed package can be loaded
To begin, type oneChannelGUI()
* DONE (oneChannelGUI)