| xcms 1.27.2 Ralf Tautenhahn
 
 | Snapshot Date: 2011-05-09 07:20:56 -0700 (Mon, 09 May 2011) |  | URL: https://hedgehog.fhcrc.org/bioconductor/trunk/madman/Rpacks/xcms |  | Last Changed Rev: 55296 / Revision: 55359 |  | Last Changed Date: 2011-05-06 00:45:41 -0700 (Fri, 06 May 2011) | 
 | wilson2 | Linux (openSUSE 11.4) / x86_64 | OK | OK |  | 
| liverpool | Windows Server 2003 R2 (32-bit) / x64 | OK | OK | OK | 
| gewurz | Windows Server 2008 R2 Enterprise (64-bit) / x64 | OK | OK | [ OK ] | 
| pelham | Mac OS X Leopard (10.5.8) / i386 | OK | OK | OK | 
* installing *source* package 'xcms' ...
** libs
x86_64-w64-mingw32-g++  -I"D:/biocbld/bbs-2.9-bioc/R/include" -I./win//x64 -D_MSC_VER -DWIN32_LEAN_AND_MEAN         -O2 -Wall  -c obiwarp/mat.cpp -o obiwarp/mat.o
x86_64-w64-mingw32-g++  -I"D:/biocbld/bbs-2.9-bioc/R/include" -I./win//x64 -D_MSC_VER -DWIN32_LEAN_AND_MEAN         -O2 -Wall  -c obiwarp/vec.cpp -o obiwarp/vec.o
x86_64-w64-mingw32-g++  -I"D:/biocbld/bbs-2.9-bioc/R/include" -I./win//x64 -D_MSC_VER -DWIN32_LEAN_AND_MEAN         -O2 -Wall  -c obiwarp/xcms_dynprog.cpp -o obiwarp/xcms_dynprog.o
x86_64-w64-mingw32-g++  -I"D:/biocbld/bbs-2.9-bioc/R/include" -I./win//x64 -D_MSC_VER -DWIN32_LEAN_AND_MEAN         -O2 -Wall  -c obiwarp/xcms_lmat.cpp -o obiwarp/xcms_lmat.o
x86_64-w64-mingw32-g++  -I"D:/biocbld/bbs-2.9-bioc/R/include" -I./win//x64 -D_MSC_VER -DWIN32_LEAN_AND_MEAN         -O2 -Wall  -c obiwarp/xcms_obiwarp.cpp -o obiwarp/xcms_obiwarp.o
x86_64-w64-mingw32-gcc  -I"D:/biocbld/bbs-2.9-bioc/R/include" -I./win//x64 -D_MSC_VER -DWIN32_LEAN_AND_MEAN      -I./win//x64 -D_MSC_VER -DWIN32_LEAN_AND_MEAN -fgnu89-inline   -O2 -Wall  -std=gnu99 -fno-inline -c fastMatch.c -o fastMatch.o
x86_64-w64-mingw32-gcc  -I"D:/biocbld/bbs-2.9-bioc/R/include" -I./win//x64 -D_MSC_VER -DWIN32_LEAN_AND_MEAN      -I./win//x64 -D_MSC_VER -DWIN32_LEAN_AND_MEAN -fgnu89-inline   -O2 -Wall  -std=gnu99 -fno-inline -c mzClust_hclust.c -o mzClust_hclust.o
x86_64-w64-mingw32-gcc  -I"D:/biocbld/bbs-2.9-bioc/R/include" -I./win//x64 -D_MSC_VER -DWIN32_LEAN_AND_MEAN      -I./win//x64 -D_MSC_VER -DWIN32_LEAN_AND_MEAN -fgnu89-inline   -O2 -Wall  -std=gnu99 -fno-inline -c mzROI.c -o mzROI.o
x86_64-w64-mingw32-gcc  -I"D:/biocbld/bbs-2.9-bioc/R/include" -I./win//x64 -D_MSC_VER -DWIN32_LEAN_AND_MEAN      -I./win//x64 -D_MSC_VER -DWIN32_LEAN_AND_MEAN -fgnu89-inline   -O2 -Wall  -std=gnu99 -fno-inline -c netCDF.c -o netCDF.o
x86_64-w64-mingw32-g++  -I"D:/biocbld/bbs-2.9-bioc/R/include" -I./win//x64 -D_MSC_VER -DWIN32_LEAN_AND_MEAN         -O2 -Wall  -c ramp_base64.cpp -o ramp_base64.o
x86_64-w64-mingw32-g++  -I"D:/biocbld/bbs-2.9-bioc/R/include" -I./win//x64 -D_MSC_VER -DWIN32_LEAN_AND_MEAN         -O2 -Wall  -c ramp.cpp -o ramp.o
x86_64-w64-mingw32-g++  -I"D:/biocbld/bbs-2.9-bioc/R/include" -I./win//x64 -D_MSC_VER -DWIN32_LEAN_AND_MEAN         -O2 -Wall  -c rampR.cpp -o rampR.o
x86_64-w64-mingw32-gcc  -I"D:/biocbld/bbs-2.9-bioc/R/include" -I./win//x64 -D_MSC_VER -DWIN32_LEAN_AND_MEAN      -I./win//x64 -D_MSC_VER -DWIN32_LEAN_AND_MEAN -fgnu89-inline   -O2 -Wall  -std=gnu99 -fno-inline -c util.c -o util.o
x86_64-w64-mingw32-gcc  -I"D:/biocbld/bbs-2.9-bioc/R/include" -I./win//x64 -D_MSC_VER -DWIN32_LEAN_AND_MEAN      -I./win//x64 -D_MSC_VER -DWIN32_LEAN_AND_MEAN -fgnu89-inline   -O2 -Wall  -std=gnu99 -fno-inline -c xcms.c -o xcms.o
x86_64-w64-mingw32-g++ -shared -s -static-libgcc -o xcms.dll tmp.def obiwarp/mat.o obiwarp/vec.o obiwarp/xcms_dynprog.o obiwarp/xcms_lmat.o obiwarp/xcms_obiwarp.o fastMatch.o mzClust_hclust.o mzROI.o netCDF.o ramp_base64.o ramp.o rampR.o util.o xcms.o -L./win//x64 -lws2_32 -lnetcdf -lz -LD:/biocbld/bbs-2.9-bioc/R/bin/x64 -lR
installing to D:/biocbld/bbs-2.9-bioc/meat/xcms.buildbin-libdir/xcms/libs/x64
** R
** inst
** preparing package for lazy loading
** help
*** installing help indices
** building package indices ...
*** tangling vignette sources ...
   'xcmsDirect.Rnw' 
   'xcmsInstall.Rnw' 
   'xcmsMSn.Rnw' 
   'xcmsPreprocess.Rnw' 
** testing if installed package can be loaded
* MD5 sums
packaged installation of 'xcms' as xcms_1.27.2.zip
* DONE (xcms)