| ConsensusClusterPlus 1.5.1 Matt Wilkerson
 
 | Snapshot Date: 2011-06-21 19:21:48 -0700 (Tue, 21 Jun 2011) |  | URL: https://hedgehog.fhcrc.org/bioconductor/trunk/madman/Rpacks/ConsensusClusterPlus |  | Last Changed Rev: 55432 / Revision: 56351 |  | Last Changed Date: 2011-05-11 09:42:31 -0700 (Wed, 11 May 2011) | 
 | wilson2 | Linux (openSUSE 11.4) / x86_64 | OK | OK |  | 
| liverpool | Windows Server 2003 R2 (32-bit) / x64 | OK | OK | OK | 
| gewurz | Windows Server 2008 R2 Enterprise (64-bit) / x64 | OK | OK | OK | 
| moscato1 | Windows Server 2008 R2 Enterprise (64-bit) / x64 | OK | OK | OK | 
| pelham | Mac OS X Leopard (10.5.8) / i386 | OK | OK | [ OK ] | 
>>>>>>> 
>>>>>>> INSTALLATION WITH 'R CMD INSTALL --preclean --library=ConsensusClusterPlus.buildbin-libdir ConsensusClusterPlus_1.5.1.tar.gz'
>>>>>>> 
* installing *source* package ‘ConsensusClusterPlus’ ...
** R
** inst
** preparing package for lazy loading
** help
*** installing help indices
** building package indices ...
*** tangling vignette sources ...
   ‘ConsensusClusterPlus.Rnw’ 
** testing if installed package can be loaded
* DONE (ConsensusClusterPlus)