| Back to the "Multiple platform build/check report" |
| Package 57/120 | Hostname | OS / Arch | BUILD | CHECK | BUILD BIN | ||||
| hapmapsnp5 1.3.5 Benilton Carvalho
| wilson2 | Linux (openSUSE 11.4) / x86_64 | OK | OK | |||||
| moscato1 | Windows Server 2008 R2 Enterprise SP1 (64-bit) / x64 | OK | OK | OK | |||||
| pitt | Mac OS X Leopard (10.5.8) / i386 | [ OK ] | OK | OK |
| Package: hapmapsnp5 |
| Version: 1.3.5 |
| Command: /Library/Frameworks/R.framework/Versions/2.14/Resources/bin/R CMD build --keep-empty-dirs --no-resave-data hapmapsnp5 |
| StartedAt: 2012-03-23 13:01:47 -0700 (Fri, 23 Mar 2012) |
| EndedAt: 2012-03-23 13:02:33 -0700 (Fri, 23 Mar 2012) |
| EllapsedTime: 45.6 seconds |
| RetCode: 0 |
| Status: OK |
| PackageFile: hapmapsnp5_1.3.5.tar.gz |
| PackageFileSize: 61.65 MiB |
* checking for file 'hapmapsnp5/DESCRIPTION' ... OK * preparing 'hapmapsnp5': * checking DESCRIPTION meta-information ... OK * checking for LF line-endings in source and make files * checking for empty or unneeded directories * building 'hapmapsnp5_1.3.5.tar.gz'