| Back to Build/check report for BioC 3.10 experimental data |
This page was generated on 2020-04-14 17:46:22 -0400 (Tue, 14 Apr 2020).
| Package 9/384 | Hostname | OS / Arch | INSTALL | BUILD | CHECK | ||||||
| Affymoe4302Expr 1.24.0 Zhicheng Ji
| malbec1 | Linux (Ubuntu 18.04.4 LTS) / x86_64 | OK | [ OK ] | OK |
| Package: Affymoe4302Expr |
| Version: 1.24.0 |
| Command: /home/biocbuild/bbs-3.10-bioc/R/bin/R CMD build --keep-empty-dirs --no-resave-data Affymoe4302Expr |
| StartedAt: 2020-04-14 11:49:51 -0400 (Tue, 14 Apr 2020) |
| EndedAt: 2020-04-14 11:50:21 -0400 (Tue, 14 Apr 2020) |
| EllapsedTime: 30.6 seconds |
| RetCode: 0 |
| Status: OK |
| PackageFile: Affymoe4302Expr_1.24.0.tar.gz |
| PackageFileSize: 417.6 MiB |
############################################################################## ############################################################################## ### ### Running command: ### ### /home/biocbuild/bbs-3.10-bioc/R/bin/R CMD build --keep-empty-dirs --no-resave-data Affymoe4302Expr ### ############################################################################## ############################################################################## * checking for file ‘Affymoe4302Expr/DESCRIPTION’ ... OK * preparing ‘Affymoe4302Expr’: * checking DESCRIPTION meta-information ... OK * checking for LF line-endings in source and make files and shell scripts * checking for empty or unneeded directories * looking to see if a ‘data/datalist’ file should be added * building ‘Affymoe4302Expr_1.24.0.tar.gz’