| Back to Build/check report for BioC 3.10 experimental data |
This page was generated on 2020-04-14 17:46:23 -0400 (Tue, 14 Apr 2020).
| Package 46/384 | Hostname | OS / Arch | INSTALL | BUILD | CHECK | ||||||
| CardinalWorkflows 1.18.0 Kylie A. Bemis
| malbec1 | Linux (Ubuntu 18.04.4 LTS) / x86_64 | OK | [ OK ] | OK |
| Package: CardinalWorkflows |
| Version: 1.18.0 |
| Command: /home/biocbuild/bbs-3.10-bioc/R/bin/R CMD build --keep-empty-dirs --no-resave-data CardinalWorkflows |
| StartedAt: 2020-04-14 11:53:33 -0400 (Tue, 14 Apr 2020) |
| EndedAt: 2020-04-14 12:01:00 -0400 (Tue, 14 Apr 2020) |
| EllapsedTime: 447.3 seconds |
| RetCode: 0 |
| Status: OK |
| PackageFile: CardinalWorkflows_1.18.0.tar.gz |
| PackageFileSize: 145 MiB |
############################################################################## ############################################################################## ### ### Running command: ### ### /home/biocbuild/bbs-3.10-bioc/R/bin/R CMD build --keep-empty-dirs --no-resave-data CardinalWorkflows ### ############################################################################## ############################################################################## * checking for file ‘CardinalWorkflows/DESCRIPTION’ ... OK * preparing ‘CardinalWorkflows’: * checking DESCRIPTION meta-information ... OK * installing the package to build vignettes * creating vignettes ... OK * checking for LF line-endings in source and make files and shell scripts * checking for empty or unneeded directories * looking to see if a ‘data/datalist’ file should be added * building ‘CardinalWorkflows_1.18.0.tar.gz’