| Back to Build/check report for BioC 3.10 experimental data |
This page was generated on 2020-04-14 17:46:27 -0400 (Tue, 14 Apr 2020).
| Package 161/384 | Hostname | OS / Arch | INSTALL | BUILD | CHECK | ||||||
| HarmonizedTCGAData 1.8.0 Tianle Ma
| malbec1 | Linux (Ubuntu 18.04.4 LTS) / x86_64 | OK | [ OK ] | OK |
| Package: HarmonizedTCGAData |
| Version: 1.8.0 |
| Command: /home/biocbuild/bbs-3.10-bioc/R/bin/R CMD build --keep-empty-dirs --no-resave-data HarmonizedTCGAData |
| StartedAt: 2020-04-14 12:17:23 -0400 (Tue, 14 Apr 2020) |
| EndedAt: 2020-04-14 12:17:58 -0400 (Tue, 14 Apr 2020) |
| EllapsedTime: 35.2 seconds |
| RetCode: 0 |
| Status: OK |
| PackageFile: HarmonizedTCGAData_1.8.0.tar.gz |
| PackageFileSize: 718.9 KiB |
############################################################################## ############################################################################## ### ### Running command: ### ### /home/biocbuild/bbs-3.10-bioc/R/bin/R CMD build --keep-empty-dirs --no-resave-data HarmonizedTCGAData ### ############################################################################## ############################################################################## * checking for file ‘HarmonizedTCGAData/DESCRIPTION’ ... OK * preparing ‘HarmonizedTCGAData’: * checking DESCRIPTION meta-information ... OK * installing the package to build vignettes * creating vignettes ... OK * checking for LF line-endings in source and make files and shell scripts * checking for empty or unneeded directories * looking to see if a ‘data/datalist’ file should be added * building ‘HarmonizedTCGAData_1.8.0.tar.gz’