| Back to Build/check report for BioC 3.10 experimental data |
This page was generated on 2020-04-14 17:46:25 -0400 (Tue, 14 Apr 2020).
| Package 203/384 | Hostname | OS / Arch | INSTALL | BUILD | CHECK | ||||||
| M3DExampleData 1.12.0 Tallulah Andrews
| malbec1 | Linux (Ubuntu 18.04.4 LTS) / x86_64 | OK | [ OK ] | WARNINGS |
| Package: M3DExampleData |
| Version: 1.12.0 |
| Command: /home/biocbuild/bbs-3.10-bioc/R/bin/R CMD build --keep-empty-dirs --no-resave-data M3DExampleData |
| StartedAt: 2020-04-14 12:16:16 -0400 (Tue, 14 Apr 2020) |
| EndedAt: 2020-04-14 12:16:17 -0400 (Tue, 14 Apr 2020) |
| EllapsedTime: 1.4 seconds |
| RetCode: 0 |
| Status: OK |
| PackageFile: M3DExampleData_1.12.0.tar.gz |
| PackageFileSize: 2.05 MiB |
############################################################################## ############################################################################## ### ### Running command: ### ### /home/biocbuild/bbs-3.10-bioc/R/bin/R CMD build --keep-empty-dirs --no-resave-data M3DExampleData ### ############################################################################## ############################################################################## * checking for file ‘M3DExampleData/DESCRIPTION’ ... OK * preparing ‘M3DExampleData’: * checking DESCRIPTION meta-information ... OK * checking for LF line-endings in source and make files and shell scripts * checking for empty or unneeded directories * looking to see if a ‘data/datalist’ file should be added * building ‘M3DExampleData_1.12.0.tar.gz’