| Back to Build/check report for BioC 3.10 experimental data |
This page was generated on 2020-04-14 17:46:30 -0400 (Tue, 14 Apr 2020).
| Package 231/384 | Hostname | OS / Arch | INSTALL | BUILD | CHECK | ||||||
| MOFAdata 1.2.0 Britta Velten
| malbec1 | Linux (Ubuntu 18.04.4 LTS) / x86_64 | OK | [ OK ] | OK |
| Package: MOFAdata |
| Version: 1.2.0 |
| Command: /home/biocbuild/bbs-3.10-bioc/R/bin/R CMD build --keep-empty-dirs --no-resave-data MOFAdata |
| StartedAt: 2020-04-14 12:29:08 -0400 (Tue, 14 Apr 2020) |
| EndedAt: 2020-04-14 12:29:50 -0400 (Tue, 14 Apr 2020) |
| EllapsedTime: 42.4 seconds |
| RetCode: 0 |
| Status: OK |
| PackageFile: MOFAdata_1.2.0.tar.gz |
| PackageFileSize: 44.23 MiB |
############################################################################## ############################################################################## ### ### Running command: ### ### /home/biocbuild/bbs-3.10-bioc/R/bin/R CMD build --keep-empty-dirs --no-resave-data MOFAdata ### ############################################################################## ############################################################################## * checking for file ‘MOFAdata/DESCRIPTION’ ... OK * preparing ‘MOFAdata’: * checking DESCRIPTION meta-information ... OK * installing the package to build vignettes * creating vignettes ... OK * checking for LF line-endings in source and make files and shell scripts * checking for empty or unneeded directories * looking to see if a ‘data/datalist’ file should be added * building ‘MOFAdata_1.2.0.tar.gz’