| Back to Build/check report for BioC 3.10 experimental data |
This page was generated on 2020-04-14 17:46:22 -0400 (Tue, 14 Apr 2020).
| Package 243/384 | Hostname | OS / Arch | INSTALL | BUILD | CHECK | ||||||
| MUGAExampleData 1.6.0 Daniel Gatti
| malbec1 | Linux (Ubuntu 18.04.4 LTS) / x86_64 | OK | [ OK ] | OK |
| Package: MUGAExampleData |
| Version: 1.6.0 |
| Command: /home/biocbuild/bbs-3.10-bioc/R/bin/R CMD build --keep-empty-dirs --no-resave-data MUGAExampleData |
| StartedAt: 2020-04-14 11:51:06 -0400 (Tue, 14 Apr 2020) |
| EndedAt: 2020-04-14 11:51:17 -0400 (Tue, 14 Apr 2020) |
| EllapsedTime: 11.5 seconds |
| RetCode: 0 |
| Status: OK |
| PackageFile: MUGAExampleData_1.6.0.tar.gz |
| PackageFileSize: 88.59 MiB |
############################################################################## ############################################################################## ### ### Running command: ### ### /home/biocbuild/bbs-3.10-bioc/R/bin/R CMD build --keep-empty-dirs --no-resave-data MUGAExampleData ### ############################################################################## ############################################################################## * checking for file ‘MUGAExampleData/DESCRIPTION’ ... OK * preparing ‘MUGAExampleData’: * checking DESCRIPTION meta-information ... OK * installing the package to build vignettes * creating vignettes ... OK * checking for LF line-endings in source and make files and shell scripts * checking for empty or unneeded directories * looking to see if a ‘data/datalist’ file should be added * building ‘MUGAExampleData_1.6.0.tar.gz’