| Back to Build/check report for BioC 3.10 experimental data |
This page was generated on 2020-04-14 17:46:20 -0400 (Tue, 14 Apr 2020).
| Package 301/384 | Hostname | OS / Arch | INSTALL | BUILD | CHECK | ||||||
| RMassBankData 1.24.0 Michael Stravs, Emma Schymanski
| malbec1 | Linux (Ubuntu 18.04.4 LTS) / x86_64 | OK | [ OK ] | OK |
| Package: RMassBankData |
| Version: 1.24.0 |
| Command: /home/biocbuild/bbs-3.10-bioc/R/bin/R CMD build --keep-empty-dirs --no-resave-data RMassBankData |
| StartedAt: 2020-04-14 11:35:26 -0400 (Tue, 14 Apr 2020) |
| EndedAt: 2020-04-14 11:35:42 -0400 (Tue, 14 Apr 2020) |
| EllapsedTime: 15.5 seconds |
| RetCode: 0 |
| Status: OK |
| PackageFile: RMassBankData_1.24.0.tar.gz |
| PackageFileSize: 51.51 MiB |
############################################################################## ############################################################################## ### ### Running command: ### ### /home/biocbuild/bbs-3.10-bioc/R/bin/R CMD build --keep-empty-dirs --no-resave-data RMassBankData ### ############################################################################## ############################################################################## * checking for file ‘RMassBankData/DESCRIPTION’ ... OK * preparing ‘RMassBankData’: * checking DESCRIPTION meta-information ... OK * checking for LF line-endings in source and make files and shell scripts * checking for empty or unneeded directories * building ‘RMassBankData_1.24.0.tar.gz’