| Back to Build/check report for BioC 3.10 experimental data |
This page was generated on 2020-04-14 17:46:30 -0400 (Tue, 14 Apr 2020).
| Package 303/384 | Hostname | OS / Arch | INSTALL | BUILD | CHECK | ||||||
| RNAmodR.Data 1.0.0 Felix G.M. Ernst
| malbec1 | Linux (Ubuntu 18.04.4 LTS) / x86_64 | OK | [ OK ] | OK |
| Package: RNAmodR.Data |
| Version: 1.0.0 |
| Command: /home/biocbuild/bbs-3.10-bioc/R/bin/R CMD build --keep-empty-dirs --no-resave-data RNAmodR.Data |
| StartedAt: 2020-04-14 12:30:54 -0400 (Tue, 14 Apr 2020) |
| EndedAt: 2020-04-14 12:31:48 -0400 (Tue, 14 Apr 2020) |
| EllapsedTime: 54.2 seconds |
| RetCode: 0 |
| Status: OK |
| PackageFile: RNAmodR.Data_1.0.0.tar.gz |
| PackageFileSize: 224.1 KiB |
############################################################################## ############################################################################## ### ### Running command: ### ### /home/biocbuild/bbs-3.10-bioc/R/bin/R CMD build --keep-empty-dirs --no-resave-data RNAmodR.Data ### ############################################################################## ############################################################################## * checking for file ‘RNAmodR.Data/DESCRIPTION’ ... OK * preparing ‘RNAmodR.Data’: * checking DESCRIPTION meta-information ... OK * installing the package to build vignettes * creating vignettes ... OK * checking for LF line-endings in source and make files and shell scripts * checking for empty or unneeded directories * building ‘RNAmodR.Data_1.0.0.tar.gz’