| Back to Build/check report for BioC 3.10 experimental data |
This page was generated on 2020-04-14 17:46:26 -0400 (Tue, 14 Apr 2020).
| Package 372/384 | Hostname | OS / Arch | INSTALL | BUILD | CHECK | ||||||
| VariantToolsData 1.10.0 Michael Lawrence
| malbec1 | Linux (Ubuntu 18.04.4 LTS) / x86_64 | OK | [ OK ] | WARNINGS |
| Package: VariantToolsData |
| Version: 1.10.0 |
| Command: /home/biocbuild/bbs-3.10-bioc/R/bin/R CMD build --keep-empty-dirs --no-resave-data VariantToolsData |
| StartedAt: 2020-04-14 12:16:22 -0400 (Tue, 14 Apr 2020) |
| EndedAt: 2020-04-14 12:17:12 -0400 (Tue, 14 Apr 2020) |
| EllapsedTime: 49.8 seconds |
| RetCode: 0 |
| Status: OK |
| PackageFile: VariantToolsData_1.10.0.tar.gz |
| PackageFileSize: 201.6 MiB |
############################################################################## ############################################################################## ### ### Running command: ### ### /home/biocbuild/bbs-3.10-bioc/R/bin/R CMD build --keep-empty-dirs --no-resave-data VariantToolsData ### ############################################################################## ############################################################################## * checking for file ‘VariantToolsData/DESCRIPTION’ ... OK * preparing ‘VariantToolsData’: * checking DESCRIPTION meta-information ... OK * installing the package to build vignettes * creating vignettes ... OK * checking for LF line-endings in source and make files and shell scripts * checking for empty or unneeded directories * looking to see if a ‘data/datalist’ file should be added * building ‘VariantToolsData_1.10.0.tar.gz’