| Back to Build/check report for BioC 3.10 experimental data |
This page was generated on 2020-04-14 17:46:15 -0400 (Tue, 14 Apr 2020).
| Package 136/384 | Hostname | OS / Arch | INSTALL | BUILD | CHECK | ||||||
| gatingMLData 2.26.0 J. Spidlen
| malbec1 | Linux (Ubuntu 18.04.4 LTS) / x86_64 | OK | [ OK ] | OK |
| Package: gatingMLData |
| Version: 2.26.0 |
| Command: /home/biocbuild/bbs-3.10-bioc/R/bin/R CMD build --keep-empty-dirs --no-resave-data gatingMLData |
| StartedAt: 2020-04-14 11:26:59 -0400 (Tue, 14 Apr 2020) |
| EndedAt: 2020-04-14 11:27:39 -0400 (Tue, 14 Apr 2020) |
| EllapsedTime: 40.5 seconds |
| RetCode: 0 |
| Status: OK |
| PackageFile: gatingMLData_2.26.0.tar.gz |
| PackageFileSize: 8.114 MiB |
############################################################################## ############################################################################## ### ### Running command: ### ### /home/biocbuild/bbs-3.10-bioc/R/bin/R CMD build --keep-empty-dirs --no-resave-data gatingMLData ### ############################################################################## ############################################################################## * checking for file ‘gatingMLData/DESCRIPTION’ ... OK * preparing ‘gatingMLData’: * checking DESCRIPTION meta-information ... OK * checking for LF line-endings in source and make files and shell scripts * checking for empty or unneeded directories * building ‘gatingMLData_2.26.0.tar.gz’