| Back to Build/check report for BioC 3.10 experimental data |
This page was generated on 2020-04-14 17:46:18 -0400 (Tue, 14 Apr 2020).
| Package 138/384 | Hostname | OS / Arch | INSTALL | BUILD | CHECK | ||||||
| geneLenDataBase 1.22.0 Matthew Young
| malbec1 | Linux (Ubuntu 18.04.4 LTS) / x86_64 | OK | [ OK ] | WARNINGS |
| Package: geneLenDataBase |
| Version: 1.22.0 |
| Command: /home/biocbuild/bbs-3.10-bioc/R/bin/R CMD build --keep-empty-dirs --no-resave-data geneLenDataBase |
| StartedAt: 2020-04-14 11:31:54 -0400 (Tue, 14 Apr 2020) |
| EndedAt: 2020-04-14 11:32:57 -0400 (Tue, 14 Apr 2020) |
| EllapsedTime: 62.2 seconds |
| RetCode: 0 |
| Status: OK |
| PackageFile: geneLenDataBase_1.22.0.tar.gz |
| PackageFileSize: 95.78 MiB |
############################################################################## ############################################################################## ### ### Running command: ### ### /home/biocbuild/bbs-3.10-bioc/R/bin/R CMD build --keep-empty-dirs --no-resave-data geneLenDataBase ### ############################################################################## ############################################################################## * checking for file ‘geneLenDataBase/DESCRIPTION’ ... OK * preparing ‘geneLenDataBase’: * checking DESCRIPTION meta-information ... OK * checking for LF line-endings in source and make files and shell scripts * checking for empty or unneeded directories * looking to see if a ‘data/datalist’ file should be added * building ‘geneLenDataBase_1.22.0.tar.gz’