| Back to Build/check report for BioC 3.10 experimental data |
This page was generated on 2020-04-14 17:46:16 -0400 (Tue, 14 Apr 2020).
| Package 154/384 | Hostname | OS / Arch | INSTALL | BUILD | CHECK | ||||||
| hapmap100kxba 1.28.0 Benilton Carvalho
| malbec1 | Linux (Ubuntu 18.04.4 LTS) / x86_64 | OK | [ OK ] | OK |
| Package: hapmap100kxba |
| Version: 1.28.0 |
| Command: /home/biocbuild/bbs-3.10-bioc/R/bin/R CMD build --keep-empty-dirs --no-resave-data hapmap100kxba |
| StartedAt: 2020-04-14 11:27:59 -0400 (Tue, 14 Apr 2020) |
| EndedAt: 2020-04-14 11:28:50 -0400 (Tue, 14 Apr 2020) |
| EllapsedTime: 50.8 seconds |
| RetCode: 0 |
| Status: OK |
| PackageFile: hapmap100kxba_1.28.0.tar.gz |
| PackageFileSize: 38.99 MiB |
############################################################################## ############################################################################## ### ### Running command: ### ### /home/biocbuild/bbs-3.10-bioc/R/bin/R CMD build --keep-empty-dirs --no-resave-data hapmap100kxba ### ############################################################################## ############################################################################## * checking for file ‘hapmap100kxba/DESCRIPTION’ ... OK * preparing ‘hapmap100kxba’: * checking DESCRIPTION meta-information ... OK * checking for LF line-endings in source and make files and shell scripts * checking for empty or unneeded directories * building ‘hapmap100kxba_1.28.0.tar.gz’