| Back to Build/check report for BioC 3.10 experimental data |
This page was generated on 2020-04-14 17:46:18 -0400 (Tue, 14 Apr 2020).
| Package 232/384 | Hostname | OS / Arch | INSTALL | BUILD | CHECK | ||||||
| mosaicsExample 1.24.0 Dongjun Chung
| malbec1 | Linux (Ubuntu 18.04.4 LTS) / x86_64 | OK | OK | [ OK ] |
| Package: mosaicsExample |
| Version: 1.24.0 |
| Command: /home/biocbuild/bbs-3.10-bioc/R/bin/R CMD check --install=check:mosaicsExample.install-out.txt --library=/home/biocbuild/bbs-3.10-bioc/R/library --no-vignettes --timings mosaicsExample_1.24.0.tar.gz |
| StartedAt: 2020-04-14 13:01:57 -0400 (Tue, 14 Apr 2020) |
| EndedAt: 2020-04-14 13:02:18 -0400 (Tue, 14 Apr 2020) |
| EllapsedTime: 20.3 seconds |
| RetCode: 0 |
| Status: OK |
| CheckDir: mosaicsExample.Rcheck |
| Warnings: 0 |
##############################################################################
##############################################################################
###
### Running command:
###
### /home/biocbuild/bbs-3.10-bioc/R/bin/R CMD check --install=check:mosaicsExample.install-out.txt --library=/home/biocbuild/bbs-3.10-bioc/R/library --no-vignettes --timings mosaicsExample_1.24.0.tar.gz
###
##############################################################################
##############################################################################
* using log directory ‘/home/biocbuild/bbs-3.10-data-experiment/meat/mosaicsExample.Rcheck’
* using R version 3.6.3 (2020-02-29)
* using platform: x86_64-pc-linux-gnu (64-bit)
* using session charset: UTF-8
* using option ‘--no-vignettes’
* checking for file ‘mosaicsExample/DESCRIPTION’ ... OK
* checking extension type ... Package
* this is package ‘mosaicsExample’ version ‘1.24.0’
* checking package namespace information ... OK
* checking package dependencies ... OK
* checking if this is a source package ... OK
* checking if there is a namespace ... OK
* checking for hidden files and directories ... OK
* checking for portable file names ... OK
* checking for sufficient/correct file permissions ... OK
* checking whether package ‘mosaicsExample’ can be installed ... OK
* checking installed package size ... NOTE
installed size is 109.0Mb
sub-directories of 1Mb or more:
data 1.3Mb
extdata 107.7Mb
* checking package directory ... OK
* checking DESCRIPTION meta-information ... OK
* checking top-level files ... OK
* checking for left-over files ... OK
* checking index information ... OK
* checking package subdirectories ... OK
* checking whether the package can be loaded ... OK
* checking whether the package can be loaded with stated dependencies ... OK
* checking whether the package can be unloaded cleanly ... OK
* checking whether the namespace can be loaded with stated dependencies ... OK
* checking whether the namespace can be unloaded cleanly ... OK
* checking Rd files ... OK
* checking Rd metadata ... OK
* checking Rd cross-references ... OK
* checking for missing documentation entries ... OK
* checking for code/documentation mismatches ... OK
* checking Rd \usage sections ... OK
* checking Rd contents ... OK
* checking for unstated dependencies in examples ... OK
* checking contents of ‘data’ directory ... OK
* checking data for non-ASCII characters ... OK
* checking data for ASCII and uncompressed saves ... OK
* checking examples ... OK
* checking PDF version of manual ... OK
* DONE
Status: 1 NOTE
See
‘/home/biocbuild/bbs-3.10-data-experiment/meat/mosaicsExample.Rcheck/00check.log’
for details.
mosaicsExample.Rcheck/00install.out
############################################################################## ############################################################################## ### ### Running command: ### ### /home/biocbuild/bbs-3.10-bioc/R/bin/R CMD INSTALL mosaicsExample ### ############################################################################## ############################################################################## * installing to library ‘/home/biocbuild/bbs-3.10-bioc/R/library’ * installing *source* package ‘mosaicsExample’ ... ** using staged installation ** data ** inst ** help *** installing help indices ** building package indices ** testing if installed package can be loaded from temporary location ** testing if installed package can be loaded from final location ** testing if installed package keeps a record of temporary installation path * DONE (mosaicsExample)
mosaicsExample.Rcheck/mosaicsExample-Ex.timings
| name | user | system | elapsed | |
| exampleBinData | 0 | 0 | 0 | |