| Back to Build/check report for BioC 3.10 experimental data |
This page was generated on 2020-04-14 17:46:25 -0400 (Tue, 14 Apr 2020).
| Package 238/384 | Hostname | OS / Arch | INSTALL | BUILD | CHECK | ||||||
| msPurityData 1.14.0 Thomas N. Lawson
| malbec1 | Linux (Ubuntu 18.04.4 LTS) / x86_64 | OK | OK | [ OK ] |
| Package: msPurityData |
| Version: 1.14.0 |
| Command: /home/biocbuild/bbs-3.10-bioc/R/bin/R CMD check --install=check:msPurityData.install-out.txt --library=/home/biocbuild/bbs-3.10-bioc/R/library --no-vignettes --timings msPurityData_1.14.0.tar.gz |
| StartedAt: 2020-04-14 13:36:43 -0400 (Tue, 14 Apr 2020) |
| EndedAt: 2020-04-14 13:37:09 -0400 (Tue, 14 Apr 2020) |
| EllapsedTime: 26.4 seconds |
| RetCode: 0 |
| Status: OK |
| CheckDir: msPurityData.Rcheck |
| Warnings: 0 |
##############################################################################
##############################################################################
###
### Running command:
###
### /home/biocbuild/bbs-3.10-bioc/R/bin/R CMD check --install=check:msPurityData.install-out.txt --library=/home/biocbuild/bbs-3.10-bioc/R/library --no-vignettes --timings msPurityData_1.14.0.tar.gz
###
##############################################################################
##############################################################################
* using log directory ‘/home/biocbuild/bbs-3.10-data-experiment/meat/msPurityData.Rcheck’
* using R version 3.6.3 (2020-02-29)
* using platform: x86_64-pc-linux-gnu (64-bit)
* using session charset: UTF-8
* using option ‘--no-vignettes’
* checking for file ‘msPurityData/DESCRIPTION’ ... OK
* checking extension type ... Package
* this is package ‘msPurityData’ version ‘1.14.0’
* checking package namespace information ... OK
* checking package dependencies ... OK
* checking if this is a source package ... OK
* checking if there is a namespace ... OK
* checking for hidden files and directories ... OK
* checking for portable file names ... OK
* checking for sufficient/correct file permissions ... OK
* checking whether package ‘msPurityData’ can be installed ... OK
* checking installed package size ... NOTE
installed size is 541.6Mb
sub-directories of 1Mb or more:
extdata 541.5Mb
* checking package directory ... OK
* checking DESCRIPTION meta-information ... NOTE
Malformed Description field: should contain one or more complete sentences.
* checking top-level files ... OK
* checking for left-over files ... OK
* checking index information ... OK
* checking package subdirectories ... OK
* checking whether the package can be loaded ... OK
* checking whether the package can be loaded with stated dependencies ... OK
* checking whether the package can be unloaded cleanly ... OK
* checking whether the namespace can be loaded with stated dependencies ... OK
* checking whether the namespace can be unloaded cleanly ... OK
* checking Rd files ... OK
* checking Rd metadata ... OK
* checking Rd cross-references ... OK
* checking for code/documentation mismatches ... OK
* checking Rd \usage sections ... OK
* checking Rd contents ... OK
* checking for unstated dependencies in examples ... OK
* checking examples ... NONE
* checking PDF version of manual ... OK
* DONE
Status: 2 NOTEs
See
‘/home/biocbuild/bbs-3.10-data-experiment/meat/msPurityData.Rcheck/00check.log’
for details.
msPurityData.Rcheck/00install.out
############################################################################## ############################################################################## ### ### Running command: ### ### /home/biocbuild/bbs-3.10-bioc/R/bin/R CMD INSTALL msPurityData ### ############################################################################## ############################################################################## * installing to library ‘/home/biocbuild/bbs-3.10-bioc/R/library’ * installing *source* package ‘msPurityData’ ... ** using staged installation ** inst ** help *** installing help indices ** building package indices ** testing if installed package can be loaded from temporary location ** testing if installed package can be loaded from final location ** testing if installed package keeps a record of temporary installation path * DONE (msPurityData)