| Back to Build/check report for BioC 3.10 experimental data |
This page was generated on 2020-04-14 17:46:25 -0400 (Tue, 14 Apr 2020).
| Package 276/384 | Hostname | OS / Arch | INSTALL | BUILD | CHECK | ||||||
| prostateCancerCamcap 1.14.0 Mark Dunning
| malbec1 | Linux (Ubuntu 18.04.4 LTS) / x86_64 | OK | [ OK ] | OK |
| Package: prostateCancerCamcap |
| Version: 1.14.0 |
| Command: /home/biocbuild/bbs-3.10-bioc/R/bin/R CMD build --keep-empty-dirs --no-resave-data prostateCancerCamcap |
| StartedAt: 2020-04-14 12:10:56 -0400 (Tue, 14 Apr 2020) |
| EndedAt: 2020-04-14 12:11:25 -0400 (Tue, 14 Apr 2020) |
| EllapsedTime: 28.9 seconds |
| RetCode: 0 |
| Status: OK |
| PackageFile: prostateCancerCamcap_1.14.0.tar.gz |
| PackageFileSize: 46.85 MiB |
############################################################################## ############################################################################## ### ### Running command: ### ### /home/biocbuild/bbs-3.10-bioc/R/bin/R CMD build --keep-empty-dirs --no-resave-data prostateCancerCamcap ### ############################################################################## ############################################################################## * checking for file ‘prostateCancerCamcap/DESCRIPTION’ ... OK * preparing ‘prostateCancerCamcap’: * checking DESCRIPTION meta-information ... OK * installing the package to build vignettes * creating vignettes ... OK * checking for LF line-endings in source and make files and shell scripts * checking for empty or unneeded directories * looking to see if a ‘data/datalist’ file should be added * building ‘prostateCancerCamcap_1.14.0.tar.gz’