| Back to Build/check report for BioC 3.11 experimental data |
This page was generated on 2020-10-15 20:45:47 -0400 (Thu, 15 Oct 2020).
| TO THE DEVELOPERS/MAINTAINERS OF THE FlowSorted.CordBloodCombined.450k PACKAGE: Please make sure to use the following settings in order to reproduce any error or warning you see on this page. |
| Package 126/391 | Hostname | OS / Arch | INSTALL | BUILD | CHECK | ||||||
| FlowSorted.CordBloodCombined.450k 1.4.1 Lucas A. Salas
| malbec2 | Linux (Ubuntu 18.04.4 LTS) / x86_64 | OK | [ ERROR ] | skipped |
| Package: FlowSorted.CordBloodCombined.450k |
| Version: 1.4.1 |
| Command: /home/biocbuild/bbs-3.11-bioc/R/bin/R CMD build --keep-empty-dirs --no-resave-data FlowSorted.CordBloodCombined.450k |
| StartedAt: 2020-10-15 10:28:49 -0400 (Thu, 15 Oct 2020) |
| EndedAt: 2020-10-15 10:36:04 -0400 (Thu, 15 Oct 2020) |
| EllapsedTime: 435.7 seconds |
| RetCode: 1 |
| Status: ERROR |
| PackageFile: None |
| PackageFileSize: NA |
##############################################################################
##############################################################################
###
### Running command:
###
### /home/biocbuild/bbs-3.11-bioc/R/bin/R CMD build --keep-empty-dirs --no-resave-data FlowSorted.CordBloodCombined.450k
###
##############################################################################
##############################################################################
* checking for file ‘FlowSorted.CordBloodCombined.450k/DESCRIPTION’ ... OK
* preparing ‘FlowSorted.CordBloodCombined.450k’:
* checking DESCRIPTION meta-information ... OK
* installing the package to build vignettes
-----------------------------------
* installing *source* package ‘FlowSorted.CordBloodCombined.450k’ ...
** using staged installation
** R
** data
** inst
** byte-compile and prepare package for lazy loading
** help
*** installing help indices
** building package indices
** installing vignettes
** testing if installed package can be loaded from temporary location
Warning: Could not check database for updates.
Database source currently unreachable.
This should only be a temporary interruption.
Using previously cached version.
Error: package or namespace load failed for ‘FlowSorted.CordBloodCombined.450k’:
.onLoad failed in loadNamespace() for 'FlowSorted.CordBloodCombined.450k', details:
call: h(simpleError(msg, call))
error: error in evaluating the argument 'x' in selecting a method for function 'query': failed to connect
reason: Timeout was reached: [bioconductor.org] SSL connection timeout
Consider rerunning with 'localHub=TRUE'
Error: loading failed
Execution halted
ERROR: loading failed
* removing ‘/tmp/RtmpjyP9I4/Rinst64f8c569eeb/FlowSorted.CordBloodCombined.450k’
-----------------------------------
ERROR: package installation failed