| Back to Build/check report for BioC 3.11 experimental data |
This page was generated on 2020-10-15 20:45:51 -0400 (Thu, 15 Oct 2020).
| TO THE DEVELOPERS/MAINTAINERS OF THE MetaGxPancreas PACKAGE: Please make sure to use the following settings in order to reproduce any error or warning you see on this page. |
| Package 218/391 | Hostname | OS / Arch | INSTALL | BUILD | CHECK | ||||||
| MetaGxPancreas 1.8.0 Michael Zon
| malbec2 | Linux (Ubuntu 18.04.4 LTS) / x86_64 | OK | OK | [ OK ] |
| Package: MetaGxPancreas |
| Version: 1.8.0 |
| Command: /home/biocbuild/bbs-3.11-bioc/R/bin/R CMD check --install=check:MetaGxPancreas.install-out.txt --library=/home/biocbuild/bbs-3.11-bioc/R/library --no-vignettes --timings MetaGxPancreas_1.8.0.tar.gz |
| StartedAt: 2020-10-15 13:39:19 -0400 (Thu, 15 Oct 2020) |
| EndedAt: 2020-10-15 13:57:00 -0400 (Thu, 15 Oct 2020) |
| EllapsedTime: 1061.0 seconds |
| RetCode: 0 |
| Status: OK |
| CheckDir: MetaGxPancreas.Rcheck |
| Warnings: 0 |
##############################################################################
##############################################################################
###
### Running command:
###
### /home/biocbuild/bbs-3.11-bioc/R/bin/R CMD check --install=check:MetaGxPancreas.install-out.txt --library=/home/biocbuild/bbs-3.11-bioc/R/library --no-vignettes --timings MetaGxPancreas_1.8.0.tar.gz
###
##############################################################################
##############################################################################
* using log directory ‘/home/biocbuild/bbs-3.11-data-experiment/meat/MetaGxPancreas.Rcheck’
* using R version 4.0.3 (2020-10-10)
* using platform: x86_64-pc-linux-gnu (64-bit)
* using session charset: UTF-8
* using option ‘--no-vignettes’
* checking for file ‘MetaGxPancreas/DESCRIPTION’ ... OK
* checking extension type ... Package
* this is package ‘MetaGxPancreas’ version ‘1.8.0’
* checking package namespace information ... OK
* checking package dependencies ... OK
* checking if this is a source package ... OK
* checking if there is a namespace ... OK
* checking for hidden files and directories ... OK
* checking for portable file names ... OK
* checking for sufficient/correct file permissions ... OK
* checking whether package ‘MetaGxPancreas’ can be installed ... OK
* checking installed package size ... OK
* checking package directory ... OK
* checking ‘build’ directory ... OK
* checking DESCRIPTION meta-information ... OK
* checking top-level files ... OK
* checking for left-over files ... OK
* checking index information ... OK
* checking package subdirectories ... OK
* checking R files for non-ASCII characters ... OK
* checking R files for syntax errors ... OK
* checking whether the package can be loaded ... OK
* checking whether the package can be loaded with stated dependencies ... OK
* checking whether the package can be unloaded cleanly ... OK
* checking whether the namespace can be loaded with stated dependencies ... OK
* checking whether the namespace can be unloaded cleanly ... OK
* checking dependencies in R code ... OK
* checking S3 generic/method consistency ... OK
* checking replacement functions ... OK
* checking foreign function calls ... OK
* checking R code for possible problems ... OK
* checking Rd files ... OK
* checking Rd metadata ... OK
* checking Rd cross-references ... OK
* checking for missing documentation entries ... OK
* checking for code/documentation mismatches ... OK
* checking Rd \usage sections ... OK
* checking Rd contents ... OK
* checking for unstated dependencies in examples ... OK
* checking files in ‘vignettes’ ... OK
* checking examples ... OK
Examples with CPU (user + system) or elapsed time > 5s
user system elapsed
BADEA 41.667 0.804 51.023
OUH 41.727 0.476 45.212
BAUER 41.110 0.463 46.083
PCSI 40.323 0.404 43.090
LUNARDI 39.168 0.400 43.086
loadPancreasDatasets 37.705 0.416 46.453
COLLISON 37.542 0.356 40.810
loadPancreasEsets 37.275 0.376 40.335
PEI 36.821 0.381 39.700
KIRBY 36.742 0.428 39.800
BALAGURUNATH 36.303 0.503 41.697
ICGCSEQ 36.355 0.372 39.107
ICGCMICRO 35.599 0.380 38.592
ZHANG 35.098 0.359 37.973
HAIDER 34.928 0.432 39.384
YANG 34.580 0.392 39.190
CHEN 34.032 0.404 36.785
WINTER 33.776 0.336 36.908
JANKY 33.718 0.336 39.163
TCGA 33.655 0.358 36.279
GRUTZMANN 32.739 0.412 35.825
HAMIDI 31.984 0.364 40.727
UNC 31.350 0.317 34.130
* checking for unstated dependencies in ‘tests’ ... OK
* checking tests ...
Running ‘required.R’
OK
* checking for unstated dependencies in vignettes ... OK
* checking package vignettes in ‘inst/doc’ ... OK
* checking running R code from vignettes ... SKIPPED
* checking re-building of vignette outputs ... SKIPPED
* checking PDF version of manual ... OK
* DONE
Status: OK
MetaGxPancreas.Rcheck/00install.out
############################################################################## ############################################################################## ### ### Running command: ### ### /home/biocbuild/bbs-3.11-bioc/R/bin/R CMD INSTALL MetaGxPancreas ### ############################################################################## ############################################################################## * installing to library ‘/home/biocbuild/bbs-3.11-bioc/R/library’ * installing *source* package ‘MetaGxPancreas’ ... ** using staged installation ** R ** inst ** byte-compile and prepare package for lazy loading ** help *** installing help indices ** building package indices ** installing vignettes ** testing if installed package can be loaded from temporary location ** testing if installed package can be loaded from final location ** testing if installed package keeps a record of temporary installation path * DONE (MetaGxPancreas)
MetaGxPancreas.Rcheck/tests/required.Rout
R version 4.0.3 (2020-10-10) -- "Bunny-Wunnies Freak Out" Copyright (C) 2020 The R Foundation for Statistical Computing Platform: x86_64-pc-linux-gnu (64-bit) R is free software and comes with ABSOLUTELY NO WARRANTY. You are welcome to redistribute it under certain conditions. Type 'license()' or 'licence()' for distribution details. R is a collaborative project with many contributors. Type 'contributors()' for more information and 'citation()' on how to cite R or R packages in publications. Type 'demo()' for some demos, 'help()' for on-line help, or 'help.start()' for an HTML browser interface to help. Type 'q()' to quit R. > # > > proc.time() user system elapsed 0.214 0.030 0.230
MetaGxPancreas.Rcheck/MetaGxPancreas-Ex.timings
| name | user | system | elapsed | |
| BADEA | 41.667 | 0.804 | 51.023 | |
| BALAGURUNATH | 36.303 | 0.503 | 41.697 | |
| BAUER | 41.110 | 0.463 | 46.083 | |
| CHEN | 34.032 | 0.404 | 36.785 | |
| COLLISON | 37.542 | 0.356 | 40.810 | |
| GRUTZMANN | 32.739 | 0.412 | 35.825 | |
| HAIDER | 34.928 | 0.432 | 39.384 | |
| HAMIDI | 31.984 | 0.364 | 40.727 | |
| ICGCMICRO | 35.599 | 0.380 | 38.592 | |
| ICGCSEQ | 36.355 | 0.372 | 39.107 | |
| JANKY | 33.718 | 0.336 | 39.163 | |
| KIRBY | 36.742 | 0.428 | 39.800 | |
| LUNARDI | 39.168 | 0.400 | 43.086 | |
| OUH | 41.727 | 0.476 | 45.212 | |
| PCSI | 40.323 | 0.404 | 43.090 | |
| PEI | 36.821 | 0.381 | 39.700 | |
| TCGA | 33.655 | 0.358 | 36.279 | |
| UNC | 31.350 | 0.317 | 34.130 | |
| WINTER | 33.776 | 0.336 | 36.908 | |
| YANG | 34.580 | 0.392 | 39.190 | |
| ZHANG | 35.098 | 0.359 | 37.973 | |
| loadPancreasDatasets | 37.705 | 0.416 | 46.453 | |
| loadPancreasEsets | 37.275 | 0.376 | 40.335 | |