| Back to Build/check report for BioC 3.11 experimental data |
This page was generated on 2020-10-15 20:45:49 -0400 (Thu, 15 Oct 2020).
| TO THE DEVELOPERS/MAINTAINERS OF THE leeBamViews PACKAGE: Please make sure to use the following settings in order to reproduce any error or warning you see on this page. |
| Package 195/391 | Hostname | OS / Arch | INSTALL | BUILD | CHECK | ||||||
| leeBamViews 1.24.0 VJ Carey
| malbec2 | Linux (Ubuntu 18.04.4 LTS) / x86_64 | OK | OK | [ OK ] |
| Package: leeBamViews |
| Version: 1.24.0 |
| Command: /home/biocbuild/bbs-3.11-bioc/R/bin/R CMD check --install=check:leeBamViews.install-out.txt --library=/home/biocbuild/bbs-3.11-bioc/R/library --no-vignettes --timings leeBamViews_1.24.0.tar.gz |
| StartedAt: 2020-10-15 13:35:37 -0400 (Thu, 15 Oct 2020) |
| EndedAt: 2020-10-15 13:38:20 -0400 (Thu, 15 Oct 2020) |
| EllapsedTime: 163.5 seconds |
| RetCode: 0 |
| Status: OK |
| CheckDir: leeBamViews.Rcheck |
| Warnings: 0 |
##############################################################################
##############################################################################
###
### Running command:
###
### /home/biocbuild/bbs-3.11-bioc/R/bin/R CMD check --install=check:leeBamViews.install-out.txt --library=/home/biocbuild/bbs-3.11-bioc/R/library --no-vignettes --timings leeBamViews_1.24.0.tar.gz
###
##############################################################################
##############################################################################
* using log directory ‘/home/biocbuild/bbs-3.11-data-experiment/meat/leeBamViews.Rcheck’
* using R version 4.0.3 (2020-10-10)
* using platform: x86_64-pc-linux-gnu (64-bit)
* using session charset: UTF-8
* using option ‘--no-vignettes’
* checking for file ‘leeBamViews/DESCRIPTION’ ... OK
* this is package ‘leeBamViews’ version ‘1.24.0’
* checking package namespace information ... OK
* checking package dependencies ... OK
* checking if this is a source package ... OK
* checking if there is a namespace ... OK
* checking for hidden files and directories ... OK
* checking for portable file names ... OK
* checking for sufficient/correct file permissions ... OK
* checking whether package ‘leeBamViews’ can be installed ... OK
* checking installed package size ... NOTE
installed size is 11.1Mb
sub-directories of 1Mb or more:
bam 10.1Mb
* checking package directory ... OK
* checking ‘build’ directory ... OK
* checking DESCRIPTION meta-information ... NOTE
Malformed Description field: should contain one or more complete sentences.
Non-standard license specification:
Artistic 2.0
Standardizable: TRUE
Standardized license specification:
Artistic-2.0
* checking top-level files ... OK
* checking for left-over files ... OK
* checking index information ... OK
* checking package subdirectories ... OK
* checking R files for non-ASCII characters ... OK
* checking R files for syntax errors ... OK
* checking whether the package can be loaded ... OK
* checking whether the package can be loaded with stated dependencies ... OK
* checking whether the package can be unloaded cleanly ... OK
* checking whether the namespace can be loaded with stated dependencies ... OK
* checking whether the namespace can be unloaded cleanly ... OK
* checking dependencies in R code ... OK
* checking S3 generic/method consistency ... OK
* checking replacement functions ... OK
* checking foreign function calls ... OK
* checking R code for possible problems ... OK
* checking Rd files ... OK
* checking Rd metadata ... OK
* checking Rd cross-references ... OK
* checking for missing documentation entries ... OK
* checking for code/documentation mismatches ... OK
* checking Rd \usage sections ... OK
* checking Rd contents ... OK
* checking for unstated dependencies in examples ... OK
* checking contents of ‘data’ directory ... OK
* checking data for non-ASCII characters ... OK
* checking data for ASCII and uncompressed saves ... OK
* checking files in ‘vignettes’ ... OK
* checking examples ... OK
Examples with CPU (user + system) or elapsed time > 5s
user system elapsed
tabulateReads 5.424 0.08 5.504
* checking for unstated dependencies in vignettes ... OK
* checking package vignettes in ‘inst/doc’ ... OK
* checking running R code from vignettes ... SKIPPED
* checking re-building of vignette outputs ... SKIPPED
* checking PDF version of manual ... OK
* DONE
Status: 2 NOTEs
See
‘/home/biocbuild/bbs-3.11-data-experiment/meat/leeBamViews.Rcheck/00check.log’
for details.
leeBamViews.Rcheck/00install.out
############################################################################## ############################################################################## ### ### Running command: ### ### /home/biocbuild/bbs-3.11-bioc/R/bin/R CMD INSTALL leeBamViews ### ############################################################################## ############################################################################## * installing to library ‘/home/biocbuild/bbs-3.11-bioc/R/library’ * installing *source* package ‘leeBamViews’ ... ** using staged installation ** R ** data ** inst ** byte-compile and prepare package for lazy loading ** help *** installing help indices ** building package indices ** installing vignettes ** testing if installed package can be loaded from temporary location ** testing if installed package can be loaded from final location ** testing if installed package keeps a record of temporary installation path * DONE (leeBamViews)
leeBamViews.Rcheck/leeBamViews-Ex.timings
| name | user | system | elapsed | |
| bs1 | 1.034 | 0.064 | 1.300 | |
| leeRPKM | 0.030 | 0.008 | 0.038 | |
| leeUnn | 0.064 | 0.004 | 0.067 | |
| tabulateReads | 5.424 | 0.080 | 5.504 | |
| totalReadCounts | 0.949 | 0.016 | 0.995 | |