| Back to Build/check report for BioC 3.11 experimental data |
This page was generated on 2020-10-15 20:46:01 -0400 (Thu, 15 Oct 2020).
| TO THE DEVELOPERS/MAINTAINERS OF THE spatialLIBD PACKAGE: Please make sure to use the following settings in order to reproduce any error or warning you see on this page. |
| Package 347/391 | Hostname | OS / Arch | INSTALL | BUILD | CHECK | ||||||
| spatialLIBD 1.0.0 Leonardo Collado-Torres
| malbec2 | Linux (Ubuntu 18.04.4 LTS) / x86_64 | [ OK ] | OK | ERROR |
| Package: spatialLIBD |
| Version: 1.0.0 |
| Command: /home/biocbuild/bbs-3.11-bioc/R/bin/R CMD INSTALL spatialLIBD |
| StartedAt: 2020-10-15 09:31:46 -0400 (Thu, 15 Oct 2020) |
| EndedAt: 2020-10-15 09:32:36 -0400 (Thu, 15 Oct 2020) |
| EllapsedTime: 50.0 seconds |
| RetCode: 0 |
| Status: OK |
############################################################################## ############################################################################## ### ### Running command: ### ### /home/biocbuild/bbs-3.11-bioc/R/bin/R CMD INSTALL spatialLIBD ### ############################################################################## ############################################################################## * installing to library ‘/home/biocbuild/bbs-3.11-bioc/R/library’ * installing *source* package ‘spatialLIBD’ ... ** using staged installation ** R ** data *** moving datasets to lazyload DB ** inst ** byte-compile and prepare package for lazy loading ** help *** installing help indices *** copying figures ** building package indices ** installing vignettes ** testing if installed package can be loaded from temporary location ** testing if installed package can be loaded from final location ** testing if installed package keeps a record of temporary installation path * DONE (spatialLIBD)