Back to Multiple platform build/check report for BioC 3.12 |
|
This page was generated on 2021-05-06 12:32:47 -0400 (Thu, 06 May 2021).
To the developers/maintainers of the POST package: Please make sure to use the following settings in order to reproduce any error or warning you see on this page. |
Package 1369/1974 | Hostname | OS / Arch | INSTALL | BUILD | CHECK | BUILD BIN | ||||||||
POST 1.14.0 (landing page) Xueyuan Cao
| malbec1 | Linux (Ubuntu 18.04.5 LTS) / x86_64 | OK | OK | WARNINGS | |||||||||
tokay1 | Windows Server 2012 R2 Standard / x64 | OK | OK | WARNINGS | OK | |||||||||
merida1 | macOS 10.14.6 Mojave / x86_64 | OK | OK | WARNINGS | OK | |||||||||
Package: POST |
Version: 1.14.0 |
Command: rm -rf POST.buildbin-libdir && mkdir POST.buildbin-libdir && C:\Users\biocbuild\bbs-3.12-bioc\R\bin\R.exe CMD INSTALL --merge-multiarch --build --library=POST.buildbin-libdir POST_1.14.0.tar.gz |
StartedAt: 2021-05-06 09:47:07 -0400 (Thu, 06 May 2021) |
EndedAt: 2021-05-06 09:47:45 -0400 (Thu, 06 May 2021) |
EllapsedTime: 38.2 seconds |
RetCode: 0 |
Status: OK |
PackageFile: POST_1.14.0.zip |
PackageFileSize: 174.3 KiB |
############################################################################## ############################################################################## ### ### Running command: ### ### rm -rf POST.buildbin-libdir && mkdir POST.buildbin-libdir && C:\Users\biocbuild\bbs-3.12-bioc\R\bin\R.exe CMD INSTALL --merge-multiarch --build --library=POST.buildbin-libdir POST_1.14.0.tar.gz ### ############################################################################## ############################################################################## install for i386 * installing *source* package 'POST' ... ** using staged installation ** R ** data ** inst ** byte-compile and prepare package for lazy loading Note: break used in wrong context: no loop is visible Note: break used in wrong context: no loop is visible ** help *** installing help indices converting help for package 'POST' finding HTML links ... done POST-package html POSTcoxph html POSTglm html sampExprSet html sampGeneSet html ** building package indices ** installing vignettes ** testing if installed package can be loaded from temporary location ** testing if installed package can be loaded from final location ** testing if installed package keeps a record of temporary installation path install for x64 * installing *source* package 'POST' ... ** testing if installed package can be loaded * MD5 sums packaged installation of 'POST' as POST_1.14.0.zip * DONE (POST)