| Back to Multiple platform build/check report for BioC 3.12 | 
 | 
This page was generated on 2021-05-06 12:29:36 -0400 (Thu, 06 May 2021).
| To the developers/maintainers of the VariantAnnotation package: Please make sure to use the following settings in order to reproduce any error or warning you see on this page. | 
| Package 1930/1974 | Hostname | OS / Arch | INSTALL | BUILD | CHECK | BUILD BIN | ||||||||
| VariantAnnotation 1.36.0  (landing page) Bioconductor Package Maintainer 
 | malbec1 | Linux (Ubuntu 18.04.5 LTS) / x86_64 | OK | OK | OK |  | ||||||||
| tokay1 | Windows Server 2012 R2 Standard / x64 | OK | OK | WARNINGS | OK |  | ||||||||
| merida1 | macOS 10.14.6 Mojave / x86_64 | OK | OK | OK | OK |  | ||||||||
| Package: VariantAnnotation | 
| Version: 1.36.0 | 
| Command: /home/biocbuild/bbs-3.12-bioc/R/bin/R CMD build --keep-empty-dirs --no-resave-data VariantAnnotation | 
| StartedAt: 2021-05-05 22:33:39 -0400 (Wed, 05 May 2021) | 
| EndedAt: 2021-05-05 22:36:36 -0400 (Wed, 05 May 2021) | 
| EllapsedTime: 176.8 seconds | 
| RetCode: 0 | 
| Status: OK | 
| PackageFile: VariantAnnotation_1.36.0.tar.gz | 
| PackageFileSize: 1.647 MiB | 
############################################################################## ############################################################################## ### ### Running command: ### ### /home/biocbuild/bbs-3.12-bioc/R/bin/R CMD build --keep-empty-dirs --no-resave-data VariantAnnotation ### ############################################################################## ############################################################################## * checking for file ‘VariantAnnotation/DESCRIPTION’ ... OK * preparing ‘VariantAnnotation’: * checking DESCRIPTION meta-information ... OK * cleaning src * installing the package to build vignettes * creating vignettes ... OK * cleaning src * checking for LF line-endings in source and make files and shell scripts * checking for empty or unneeded directories * building ‘VariantAnnotation_1.36.0.tar.gz’