| Back to Multiple platform build/check report for BioC 3.12 | 
 | 
This page was generated on 2021-05-06 12:36:55 -0400 (Thu, 06 May 2021).
| To the developers/maintainers of the spkTools package: Please make sure to use the following settings in order to reproduce any error or warning you see on this page. | 
| Package 1771/1974 | Hostname | OS / Arch | INSTALL | BUILD | CHECK | BUILD BIN | ||||||||
| spkTools 1.46.0  (landing page) Matthew N McCall 
 | malbec1 | Linux (Ubuntu 18.04.5 LTS) / x86_64 | OK | OK | OK |  | ||||||||
| tokay1 | Windows Server 2012 R2 Standard / x64 | OK | OK | OK | OK |  | ||||||||
| merida1 | macOS 10.14.6 Mojave / x86_64 | OK | OK | OK | OK |  | ||||||||
| Package: spkTools | 
| Version: 1.46.0 | 
| Command: rm -rf spkTools.buildbin-libdir && mkdir spkTools.buildbin-libdir && /Users/biocbuild/BBS/utils/build-universal.sh spkTools_1.46.0.tar.gz /Library/Frameworks/R.framework/Versions/Current/Resources/bin/R spkTools.buildbin-libdir | 
| StartedAt: 2021-05-06 10:06:21 -0400 (Thu, 06 May 2021) | 
| EndedAt: 2021-05-06 10:07:25 -0400 (Thu, 06 May 2021) | 
| EllapsedTime: 63.9 seconds | 
| RetCode: 0 | 
| Status: OK | 
| PackageFile: spkTools_1.46.0.tgz | 
| PackageFileSize: 713.8 KiB | 
############################################################################## ############################################################################## ### ### Running command: ### ### rm -rf spkTools.buildbin-libdir && mkdir spkTools.buildbin-libdir && /Users/biocbuild/BBS/utils/build-universal.sh spkTools_1.46.0.tar.gz /Library/Frameworks/R.framework/Versions/Current/Resources/bin/R spkTools.buildbin-libdir ### ############################################################################## ############################################################################## >>>>>>> >>>>>>> INSTALLATION WITH 'R CMD INSTALL --preclean --no-multiarch --library=spkTools.buildbin-libdir spkTools_1.46.0.tar.gz' >>>>>>> * installing *source* package ‘spkTools’ ... ** using staged installation ** R ** data ** inst ** byte-compile and prepare package for lazy loading ** help *** installing help indices ** building package indices ** installing vignettes ** testing if installed package can be loaded from temporary location ** testing if installed package can be loaded from final location ** testing if installed package keeps a record of temporary installation path * DONE (spkTools)