Back to Multiple platform build/check report for BioC 3.12 |
|
This page was generated on 2021-05-06 12:30:03 -0400 (Thu, 06 May 2021).
To the developers/maintainers of the BioSeqClass package: Please make sure to use the following settings in order to reproduce any error or warning you see on this page. |
Package 185/1974 | Hostname | OS / Arch | INSTALL | BUILD | CHECK | BUILD BIN | ||||||||
Li Hong
| malbec1 | Linux (Ubuntu 18.04.5 LTS) / x86_64 | OK | ERROR | skipped | |||||||||
tokay1 | Windows Server 2012 R2 Standard / x64 | OK | ERROR | skipped | skipped | |||||||||
merida1 | macOS 10.14.6 Mojave / x86_64 | OK | ERROR | skipped | skipped | |||||||||
Package: BioSeqClass |
Version: 1.48.0 |
Command: C:\cygwin\bin\curl.exe -O http://172.29.0.3/BBS/3.12/bioc/src/contrib/BioSeqClass_1.48.0.tar.gz && rm -rf BioSeqClass.buildbin-libdir && mkdir BioSeqClass.buildbin-libdir && C:\Users\biocbuild\bbs-3.12-bioc\R\bin\R.exe CMD INSTALL --merge-multiarch --build --library=BioSeqClass.buildbin-libdir BioSeqClass_1.48.0.tar.gz && C:\Users\biocbuild\bbs-3.12-bioc\R\bin\R.exe CMD INSTALL BioSeqClass_1.48.0.zip && rm BioSeqClass_1.48.0.tar.gz BioSeqClass_1.48.0.zip |
StartedAt: 2021-05-05 18:58:31 -0400 (Wed, 05 May 2021) |
EndedAt: 2021-05-05 19:00:19 -0400 (Wed, 05 May 2021) |
EllapsedTime: 107.8 seconds |
RetCode: 0 |
Status: OK |
############################################################################## ############################################################################## ### ### Running command: ### ### C:\cygwin\bin\curl.exe -O http://172.29.0.3/BBS/3.12/bioc/src/contrib/BioSeqClass_1.48.0.tar.gz && rm -rf BioSeqClass.buildbin-libdir && mkdir BioSeqClass.buildbin-libdir && C:\Users\biocbuild\bbs-3.12-bioc\R\bin\R.exe CMD INSTALL --merge-multiarch --build --library=BioSeqClass.buildbin-libdir BioSeqClass_1.48.0.tar.gz && C:\Users\biocbuild\bbs-3.12-bioc\R\bin\R.exe CMD INSTALL BioSeqClass_1.48.0.zip && rm BioSeqClass_1.48.0.tar.gz BioSeqClass_1.48.0.zip ### ############################################################################## ############################################################################## % Total % Received % Xferd Average Speed Time Time Time Current Dload Upload Total Spent Left Speed 0 0 0 0 0 0 0 0 --:--:-- --:--:-- --:--:-- 0 100 5613k 100 5613k 0 0 45.5M 0 --:--:-- --:--:-- --:--:-- 46.0M install for i386 * installing *source* package 'BioSeqClass' ... ** using staged installation ** R ** data ** inst ** byte-compile and prepare package for lazy loading ** help *** installing help indices converting help for package 'BioSeqClass' finding HTML links ... done basic html classify html featureAAindex html featureBDNAVIDEO html featureBinary html featureCKSAAP html featureCTD html featureDIPRODB html featureDOMAIN html featureEvaluate html featureFragmentComposition html featureGapPairComposition html featureHydro html featurePSSM html featurePseudoAAComp html featureSSC html hr html model html performance html selectFFS html selectWeka html zzz html ** building package indices ** installing vignettes ** testing if installed package can be loaded from temporary location Warning: Package 'BioSeqClass' is deprecated and will be removed from Bioconductor version 3.13 ** testing if installed package can be loaded from final location Warning: Package 'BioSeqClass' is deprecated and will be removed from Bioconductor version 3.13 ** testing if installed package keeps a record of temporary installation path install for x64 * installing *source* package 'BioSeqClass' ... ** testing if installed package can be loaded Warning: Package 'BioSeqClass' is deprecated and will be removed from Bioconductor version 3.13 * MD5 sums packaged installation of 'BioSeqClass' as BioSeqClass_1.48.0.zip * DONE (BioSeqClass) * installing to library 'C:/Users/biocbuild/bbs-3.12-bioc/R/library' package 'BioSeqClass' successfully unpacked and MD5 sums checked