Back to Multiple platform build/check report for BioC 3.12 |
|
This page was generated on 2021-05-06 12:32:18 -0400 (Thu, 06 May 2021).
To the developers/maintainers of the MLP package: Please make sure to use the following settings in order to reproduce any error or warning you see on this page. |
Package 1124/1974 | Hostname | OS / Arch | INSTALL | BUILD | CHECK | BUILD BIN | ||||||||
MLP 1.38.0 (landing page) Tobias Verbeke
| malbec1 | Linux (Ubuntu 18.04.5 LTS) / x86_64 | OK | OK | OK | |||||||||
tokay1 | Windows Server 2012 R2 Standard / x64 | OK | OK | OK | OK | |||||||||
merida1 | macOS 10.14.6 Mojave / x86_64 | OK | OK | OK | OK | |||||||||
Package: MLP |
Version: 1.38.0 |
Command: C:\cygwin\bin\curl.exe -O http://172.29.0.3/BBS/3.12/bioc/src/contrib/MLP_1.38.0.tar.gz && rm -rf MLP.buildbin-libdir && mkdir MLP.buildbin-libdir && C:\Users\biocbuild\bbs-3.12-bioc\R\bin\R.exe CMD INSTALL --merge-multiarch --build --library=MLP.buildbin-libdir MLP_1.38.0.tar.gz && C:\Users\biocbuild\bbs-3.12-bioc\R\bin\R.exe CMD INSTALL MLP_1.38.0.zip && rm MLP_1.38.0.tar.gz MLP_1.38.0.zip |
StartedAt: 2021-05-05 17:16:21 -0400 (Wed, 05 May 2021) |
EndedAt: 2021-05-05 17:17:02 -0400 (Wed, 05 May 2021) |
EllapsedTime: 40.5 seconds |
RetCode: 0 |
Status: OK |
############################################################################## ############################################################################## ### ### Running command: ### ### C:\cygwin\bin\curl.exe -O http://172.29.0.3/BBS/3.12/bioc/src/contrib/MLP_1.38.0.tar.gz && rm -rf MLP.buildbin-libdir && mkdir MLP.buildbin-libdir && C:\Users\biocbuild\bbs-3.12-bioc\R\bin\R.exe CMD INSTALL --merge-multiarch --build --library=MLP.buildbin-libdir MLP_1.38.0.tar.gz && C:\Users\biocbuild\bbs-3.12-bioc\R\bin\R.exe CMD INSTALL MLP_1.38.0.zip && rm MLP_1.38.0.tar.gz MLP_1.38.0.zip ### ############################################################################## ############################################################################## % Total % Received % Xferd Average Speed Time Time Time Current Dload Upload Total Spent Left Speed 0 0 0 0 0 0 0 0 --:--:-- --:--:-- --:--:-- 0 0 4303k 0 8515 0 0 73188 0 0:01:00 --:--:-- 0:01:00 73405 100 4303k 100 4303k 0 0 10.4M 0 --:--:-- --:--:-- --:--:-- 10.4M install for i386 * installing *source* package 'MLP' ... ** using staged installation ** R ** inst ** byte-compile and prepare package for lazy loading ** help *** installing help indices converting help for package 'MLP' finding HTML links ... done MLP html addGeneSetDescription html getGeneSets html mlpBarplot html plot.MLP html plotGOgraph html plotGeneSetSignificance html ** building package indices ** installing vignettes ** testing if installed package can be loaded from temporary location ** testing if installed package can be loaded from final location ** testing if installed package keeps a record of temporary installation path install for x64 * installing *source* package 'MLP' ... ** testing if installed package can be loaded * MD5 sums packaged installation of 'MLP' as MLP_1.38.0.zip * DONE (MLP) * installing to library 'C:/Users/biocbuild/bbs-3.12-bioc/R/library' package 'MLP' successfully unpacked and MD5 sums checked