Back to Multiple platform build/check report for BioC 3.12 |
|
This page was generated on 2021-05-06 12:30:40 -0400 (Thu, 06 May 2021).
To the developers/maintainers of the deltaGseg package: Please make sure to use the following settings in order to reproduce any error or warning you see on this page. |
Package 453/1974 | Hostname | OS / Arch | INSTALL | BUILD | CHECK | BUILD BIN | ||||||||
deltaGseg 1.30.0 (landing page) Diana Low
| malbec1 | Linux (Ubuntu 18.04.5 LTS) / x86_64 | OK | OK | OK | |||||||||
tokay1 | Windows Server 2012 R2 Standard / x64 | OK | OK | OK | OK | |||||||||
merida1 | macOS 10.14.6 Mojave / x86_64 | OK | OK | OK | OK | |||||||||
Package: deltaGseg |
Version: 1.30.0 |
Command: rm -rf deltaGseg.buildbin-libdir && mkdir deltaGseg.buildbin-libdir && C:\Users\biocbuild\bbs-3.12-bioc\R\bin\R.exe --arch x64 CMD INSTALL --no-multiarch --build --library=deltaGseg.buildbin-libdir deltaGseg_1.30.0.tar.gz |
StartedAt: 2021-05-06 08:53:47 -0400 (Thu, 06 May 2021) |
EndedAt: 2021-05-06 08:54:25 -0400 (Thu, 06 May 2021) |
EllapsedTime: 38.2 seconds |
RetCode: 0 |
Status: OK |
PackageFile: deltaGseg_1.30.0.zip |
PackageFileSize: 2.096 MiB |
############################################################################## ############################################################################## ### ### Running command: ### ### rm -rf deltaGseg.buildbin-libdir && mkdir deltaGseg.buildbin-libdir && C:\Users\biocbuild\bbs-3.12-bioc\R\bin\R.exe --arch x64 CMD INSTALL --no-multiarch --build --library=deltaGseg.buildbin-libdir deltaGseg_1.30.0.tar.gz ### ############################################################################## ############################################################################## * installing *source* package 'deltaGseg' ... ** using staged installation ** R ** data ** inst ** byte-compile and prepare package for lazy loading ** help *** installing help indices converting help for package 'deltaGseg' finding HTML links ... done SegSeriesTrajectories-class html SegTrajectories-class html Trajectories-class html TransTrajectories-class html chooseBreaks-methods html chooseBreaks html clusterPV-methods html clusterPV html clusterSegments-methods html clusterSegments html deltaGseg-package html denoiseSegments-methods html denoiseSegments html diagnosticPlots-methods html diagnosticPlots html getAVD-methods html getAVD html getBreaks-methods html getBreaks html getIntervals-methods html getIntervals html getSegments-methods html getSegments html getTNames-methods html getTNames html getTraj-methods html getTraj html parseTraj html plot-methods html plotDiff-methods html plotDiff html pvals html finding level-2 HTML links ... done show-methods html simtraj html simtraj.tr html simtraj.tr2 html splitTraj-methods html splitTraj html traj1 html traj1.denoise html traj1.ss html traj1.tr html transformSeries-methods html transformSeries html ** building package indices ** installing vignettes ** testing if installed package can be loaded from temporary location ** testing if installed package can be loaded from final location ** testing if installed package keeps a record of temporary installation path * MD5 sums packaged installation of 'deltaGseg' as deltaGseg_1.30.0.zip * DONE (deltaGseg)