Back to Multiple platform build/check report for BioC 3.12 |
|
This page was generated on 2021-05-06 12:33:45 -0400 (Thu, 06 May 2021).
To the developers/maintainers of the spqn package: Please make sure to use the following settings in order to reproduce any error or warning you see on this page. |
Package 1779/1974 | Hostname | OS / Arch | INSTALL | BUILD | CHECK | BUILD BIN | ||||||||
spqn 1.2.0 (landing page) Yi Wang
| malbec1 | Linux (Ubuntu 18.04.5 LTS) / x86_64 | OK | OK | OK | |||||||||
tokay1 | Windows Server 2012 R2 Standard / x64 | OK | OK | OK | OK | |||||||||
merida1 | macOS 10.14.6 Mojave / x86_64 | OK | OK | OK | OK | |||||||||
Package: spqn |
Version: 1.2.0 |
Command: C:\cygwin\bin\curl.exe -O http://172.29.0.3/BBS/3.12/bioc/src/contrib/spqn_1.2.0.tar.gz && rm -rf spqn.buildbin-libdir && mkdir spqn.buildbin-libdir && C:\Users\biocbuild\bbs-3.12-bioc\R\bin\R.exe CMD INSTALL --merge-multiarch --build --library=spqn.buildbin-libdir spqn_1.2.0.tar.gz && C:\Users\biocbuild\bbs-3.12-bioc\R\bin\R.exe CMD INSTALL spqn_1.2.0.zip && rm spqn_1.2.0.tar.gz spqn_1.2.0.zip |
StartedAt: 2021-05-05 17:47:10 -0400 (Wed, 05 May 2021) |
EndedAt: 2021-05-05 17:47:46 -0400 (Wed, 05 May 2021) |
EllapsedTime: 36.8 seconds |
RetCode: 0 |
Status: OK |
############################################################################## ############################################################################## ### ### Running command: ### ### C:\cygwin\bin\curl.exe -O http://172.29.0.3/BBS/3.12/bioc/src/contrib/spqn_1.2.0.tar.gz && rm -rf spqn.buildbin-libdir && mkdir spqn.buildbin-libdir && C:\Users\biocbuild\bbs-3.12-bioc\R\bin\R.exe CMD INSTALL --merge-multiarch --build --library=spqn.buildbin-libdir spqn_1.2.0.tar.gz && C:\Users\biocbuild\bbs-3.12-bioc\R\bin\R.exe CMD INSTALL spqn_1.2.0.zip && rm spqn_1.2.0.tar.gz spqn_1.2.0.zip ### ############################################################################## ############################################################################## % Total % Received % Xferd Average Speed Time Time Time Current Dload Upload Total Spent Left Speed 0 0 0 0 0 0 0 0 --:--:-- --:--:-- --:--:-- 0 100 1828k 100 1828k 0 0 34.2M 0 --:--:-- --:--:-- --:--:-- 35.0M install for i386 * installing *source* package 'spqn' ... ** using staged installation ** R ** inst ** byte-compile and prepare package for lazy loading ** help *** installing help indices converting help for package 'spqn' finding HTML links ... done normalize_correlation html plot_IQR_condition_exp html plot_signal_condition_exp html qqplot_condition_exp html spqn-package html ** building package indices ** installing vignettes ** testing if installed package can be loaded from temporary location ** testing if installed package can be loaded from final location ** testing if installed package keeps a record of temporary installation path install for x64 * installing *source* package 'spqn' ... ** testing if installed package can be loaded * MD5 sums packaged installation of 'spqn' as spqn_1.2.0.zip * DONE (spqn) * installing to library 'C:/Users/biocbuild/bbs-3.12-bioc/R/library' package 'spqn' successfully unpacked and MD5 sums checked