| Back to Build/check report for BioC 3.12 experimental data | 
 | 
This page was generated on 2021-05-06 14:10:06 -0400 (Thu, 06 May 2021).
| To the developers/maintainers of the CellMapperData package: Please make sure to use the following settings in order to reproduce any error or warning you see on this page. | 
| Package 51/398 | Hostname | OS / Arch | INSTALL | BUILD | CHECK | ||||||||
| CellMapperData 1.16.0  (landing page) Brad Nelms 
 | malbec1 | Linux (Ubuntu 18.04.5 LTS) / x86_64 | OK | OK | OK |  | |||||||
| Package: CellMapperData | 
| Version: 1.16.0 | 
| Command: /home/biocbuild/bbs-3.12-bioc/R/bin/R CMD INSTALL CellMapperData | 
| StartedAt: 2021-05-06 10:05:02 -0400 (Thu, 06 May 2021) | 
| EndedAt: 2021-05-06 10:05:16 -0400 (Thu, 06 May 2021) | 
| EllapsedTime: 14.2 seconds | 
| RetCode: 0 | 
| Status: OK | 
############################################################################## ############################################################################## ### ### Running command: ### ### /home/biocbuild/bbs-3.12-bioc/R/bin/R CMD INSTALL CellMapperData ### ############################################################################## ############################################################################## * installing to library ‘/home/biocbuild/bbs-3.12-bioc/R/library’ * installing *source* package ‘CellMapperData’ ... ** using staged installation ** inst ** help *** installing help indices ** building package indices ** installing vignettes ** testing if installed package can be loaded from temporary location Warning: replacing previous import ‘stats::sd’ by ‘S4Vectors::sd’ when loading ‘CellMapper’ Warning: replacing previous import ‘stats::var’ by ‘S4Vectors::var’ when loading ‘CellMapper’ ** testing if installed package can be loaded from final location Warning: replacing previous import ‘stats::sd’ by ‘S4Vectors::sd’ when loading ‘CellMapper’ Warning: replacing previous import ‘stats::var’ by ‘S4Vectors::var’ when loading ‘CellMapper’ ** testing if installed package keeps a record of temporary installation path * DONE (CellMapperData)