| Back to Build/check report for BioC 3.12 experimental data | 
 | 
This page was generated on 2021-05-06 14:10:07 -0400 (Thu, 06 May 2021).
| To the developers/maintainers of the CopyNeutralIMA package: Please make sure to use the following settings in order to reproduce any error or warning you see on this page. | 
| Package 76/398 | Hostname | OS / Arch | INSTALL | BUILD | CHECK | ||||||||
| CopyNeutralIMA 1.8.0  (landing page) Xavier Pastor Hostench 
 | malbec1 | Linux (Ubuntu 18.04.5 LTS) / x86_64 | OK | OK | OK |  | |||||||
| Package: CopyNeutralIMA | 
| Version: 1.8.0 | 
| Command: /home/biocbuild/bbs-3.12-bioc/R/bin/R CMD build --keep-empty-dirs --no-resave-data CopyNeutralIMA | 
| StartedAt: 2021-05-06 10:32:11 -0400 (Thu, 06 May 2021) | 
| EndedAt: 2021-05-06 10:35:47 -0400 (Thu, 06 May 2021) | 
| EllapsedTime: 215.6 seconds | 
| RetCode: 0 | 
| Status: OK | 
| PackageFile: CopyNeutralIMA_1.8.0.tar.gz | 
| PackageFileSize: 535.3 KiB | 
############################################################################## ############################################################################## ### ### Running command: ### ### /home/biocbuild/bbs-3.12-bioc/R/bin/R CMD build --keep-empty-dirs --no-resave-data CopyNeutralIMA ### ############################################################################## ############################################################################## * checking for file ‘CopyNeutralIMA/DESCRIPTION’ ... OK * preparing ‘CopyNeutralIMA’: * checking DESCRIPTION meta-information ... OK * installing the package to process help pages Loading required namespace: CopyNeutralIMA * saving partial Rd database * creating vignettes ... OK * checking for LF line-endings in source and make files and shell scripts * checking for empty or unneeded directories * building ‘CopyNeutralIMA_1.8.0.tar.gz’