| Back to Build/check report for BioC 3.12 experimental data | 
 | 
This page was generated on 2021-05-06 14:10:10 -0400 (Thu, 06 May 2021).
| To the developers/maintainers of the hapmap500ksty package: Please make sure to use the following settings in order to reproduce any error or warning you see on this page. | 
| Package 160/398 | Hostname | OS / Arch | INSTALL | BUILD | CHECK | ||||||||
| hapmap500ksty 1.32.0  (landing page) Benilton Carvalho 
 | malbec1 | Linux (Ubuntu 18.04.5 LTS) / x86_64 | OK | OK | OK |  | |||||||
| Package: hapmap500ksty | 
| Version: 1.32.0 | 
| Command: /home/biocbuild/bbs-3.12-bioc/R/bin/R CMD build --keep-empty-dirs --no-resave-data hapmap500ksty | 
| StartedAt: 2021-05-06 10:54:54 -0400 (Thu, 06 May 2021) | 
| EndedAt: 2021-05-06 10:57:14 -0400 (Thu, 06 May 2021) | 
| EllapsedTime: 139.2 seconds | 
| RetCode: 0 | 
| Status: OK | 
| PackageFile: hapmap500ksty_1.32.0.tar.gz | 
| PackageFileSize: 77.63 MiB | 
############################################################################## ############################################################################## ### ### Running command: ### ### /home/biocbuild/bbs-3.12-bioc/R/bin/R CMD build --keep-empty-dirs --no-resave-data hapmap500ksty ### ############################################################################## ############################################################################## * checking for file ‘hapmap500ksty/DESCRIPTION’ ... OK * preparing ‘hapmap500ksty’: * checking DESCRIPTION meta-information ... OK * checking for LF line-endings in source and make files and shell scripts * checking for empty or unneeded directories * building ‘hapmap500ksty_1.32.0.tar.gz’