| Back to Multiple platform build/check report for BioC 3.13 |
|
This page was generated on 2021-10-15 15:05:57 -0400 (Fri, 15 Oct 2021).
|
To the developers/maintainers of the AnnotationHubData package: - Please allow up to 24 hours (and sometimes 48 hours) for your latest push to git@git.bioconductor.org:packages/AnnotationHubData.git to reflect on this report. See How and When does the builder pull? When will my changes propagate? here for more information. - Make sure to use the following settings in order to reproduce any error or warning you see on this page. |
| Package 67/2041 | Hostname | OS / Arch | INSTALL | BUILD | CHECK | BUILD BIN | ||||||||
| AnnotationHubData 1.22.0 (landing page) Bioconductor Package Maintainer
| nebbiolo1 | Linux (Ubuntu 20.04.2 LTS) / x86_64 | OK | OK | ERROR | |||||||||
| tokay2 | Windows Server 2012 R2 Standard / x64 | OK | OK | ERROR | OK | |||||||||
| machv2 | macOS 10.14.6 Mojave / x86_64 | OK | OK | ERROR | OK | |||||||||
| Package: AnnotationHubData |
| Version: 1.22.0 |
| Command: rm -rf AnnotationHubData.buildbin-libdir && mkdir AnnotationHubData.buildbin-libdir && C:\Users\biocbuild\bbs-3.13-bioc\R\bin\R.exe CMD INSTALL --merge-multiarch --build --library=AnnotationHubData.buildbin-libdir AnnotationHubData_1.22.0.tar.gz |
| StartedAt: 2021-10-15 08:00:37 -0400 (Fri, 15 Oct 2021) |
| EndedAt: 2021-10-15 08:02:00 -0400 (Fri, 15 Oct 2021) |
| EllapsedTime: 82.8 seconds |
| RetCode: 0 |
| Status: OK |
| PackageFile: AnnotationHubData_1.22.0.zip |
| PackageFileSize: 933.5 KiB |
##############################################################################
##############################################################################
###
### Running command:
###
### rm -rf AnnotationHubData.buildbin-libdir && mkdir AnnotationHubData.buildbin-libdir && C:\Users\biocbuild\bbs-3.13-bioc\R\bin\R.exe CMD INSTALL --merge-multiarch --build --library=AnnotationHubData.buildbin-libdir AnnotationHubData_1.22.0.tar.gz
###
##############################################################################
##############################################################################
install for i386
* installing *source* package 'AnnotationHubData' ...
** using staged installation
** R
** inst
** byte-compile and prepare package for lazy loading
** help
*** installing help indices
converting help for package 'AnnotationHubData'
finding HTML links ... done
AnnotationHubData-package html
AnnotationHubMetadata-class html
ImportPreparer-class html
flog html
makeAnnotationHubMetadata html
makeEnsemblFasta html
makeGencodeFasta html
makeStandardOrgDbs html
updateResources html
upload_to_S3 html
validationFunctions html
** building package indices
** installing vignettes
** testing if installed package can be loaded from temporary location
** testing if installed package can be loaded from final location
** testing if installed package keeps a record of temporary installation path
install for x64
* installing *source* package 'AnnotationHubData' ...
** testing if installed package can be loaded
* MD5 sums
packaged installation of 'AnnotationHubData' as AnnotationHubData_1.22.0.zip
* DONE (AnnotationHubData)