| Back to Multiple platform build/check report for BioC 3.13 |
|
This page was generated on 2021-10-15 15:05:59 -0400 (Fri, 15 Oct 2021).
|
To the developers/maintainers of the BioNet package: - Please allow up to 24 hours (and sometimes 48 hours) for your latest push to git@git.bioconductor.org:packages/BioNet.git to reflect on this report. See How and When does the builder pull? When will my changes propagate? here for more information. - Make sure to use the following settings in order to reproduce any error or warning you see on this page. |
| Package 186/2041 | Hostname | OS / Arch | INSTALL | BUILD | CHECK | BUILD BIN | ||||||||
| BioNet 1.52.0 (landing page) Marcus Dittrich
| nebbiolo1 | Linux (Ubuntu 20.04.2 LTS) / x86_64 | OK | OK | OK | |||||||||
| tokay2 | Windows Server 2012 R2 Standard / x64 | OK | OK | OK | OK | |||||||||
| machv2 | macOS 10.14.6 Mojave / x86_64 | OK | OK | OK | OK | |||||||||
| Package: BioNet |
| Version: 1.52.0 |
| Command: rm -rf BioNet.buildbin-libdir && mkdir BioNet.buildbin-libdir && C:\Users\biocbuild\bbs-3.13-bioc\R\bin\R.exe CMD INSTALL --merge-multiarch --build --library=BioNet.buildbin-libdir BioNet_1.52.0.tar.gz |
| StartedAt: 2021-10-15 08:17:08 -0400 (Fri, 15 Oct 2021) |
| EndedAt: 2021-10-15 08:18:33 -0400 (Fri, 15 Oct 2021) |
| EllapsedTime: 85.8 seconds |
| RetCode: 0 |
| Status: OK |
| PackageFile: BioNet_1.52.0.zip |
| PackageFileSize: 1.48 MiB |
##############################################################################
##############################################################################
###
### Running command:
###
### rm -rf BioNet.buildbin-libdir && mkdir BioNet.buildbin-libdir && C:\Users\biocbuild\bbs-3.13-bioc\R\bin\R.exe CMD INSTALL --merge-multiarch --build --library=BioNet.buildbin-libdir BioNet_1.52.0.tar.gz
###
##############################################################################
##############################################################################
install for i386
* installing *source* package 'BioNet' ...
** using staged installation
** R
** data
** inst
** byte-compile and prepare package for lazy loading
** help
*** installing help indices
converting help for package 'BioNet'
finding HTML links ... done
BioNet-package html
aggrPvals html
bumOptim html
compareNetworks html
consensusScores html
fbum html
fbumLL html
fdrThreshold html
fitBumModel html
getCompScores html
getEdgeList html
hist.bum html
largestComp html
largestScoreComp html
loadNetwork.sif html
loadNetwork.tab html
makeNetwork html
mapByVar html
permutateNodes html
piUpper html
plot.bum html
plot3dModule html
plotLLSurface html
plotModule html
print.bum html
pvaluesExample html
readHeinzGraph html
readHeinzTree html
resamplingPvalues html
rmSelfLoops html
runFastHeinz html
runHeinz html
save3dModule html
saveNetwork html
scanFDR html
scoreFunction html
scoreNodes html
scoreOffset html
sortedEdgeList html
subNetwork html
summary.bum html
writeHeinz html
writeHeinzEdges html
writeHeinzNodes html
** building package indices
** installing vignettes
** testing if installed package can be loaded from temporary location
** testing if installed package can be loaded from final location
** testing if installed package keeps a record of temporary installation path
install for x64
* installing *source* package 'BioNet' ...
** testing if installed package can be loaded
* MD5 sums
packaged installation of 'BioNet' as BioNet_1.52.0.zip
* DONE (BioNet)