| Back to Multiple platform build/check report for BioC 3.13 |
|
This page was generated on 2021-10-15 15:05:59 -0400 (Fri, 15 Oct 2021).
|
To the developers/maintainers of the BioTIP package: - Please allow up to 24 hours (and sometimes 48 hours) for your latest push to git@git.bioconductor.org:packages/BioTIP.git to reflect on this report. See How and When does the builder pull? When will my changes propagate? here for more information. - Make sure to use the following settings in order to reproduce any error or warning you see on this page. |
| Package 191/2041 | Hostname | OS / Arch | INSTALL | BUILD | CHECK | BUILD BIN | ||||||||
| BioTIP 1.6.0 (landing page) Yuxi (Jennifer) Sun
| nebbiolo1 | Linux (Ubuntu 20.04.2 LTS) / x86_64 | OK | OK | WARNINGS | |||||||||
| tokay2 | Windows Server 2012 R2 Standard / x64 | OK | OK | WARNINGS | OK | |||||||||
| machv2 | macOS 10.14.6 Mojave / x86_64 | OK | OK | WARNINGS | OK | |||||||||
| Package: BioTIP |
| Version: 1.6.0 |
| Command: rm -rf BioTIP.buildbin-libdir && mkdir BioTIP.buildbin-libdir && C:\Users\biocbuild\bbs-3.13-bioc\R\bin\R.exe CMD INSTALL --merge-multiarch --build --library=BioTIP.buildbin-libdir BioTIP_1.6.0.tar.gz |
| StartedAt: 2021-10-15 08:17:52 -0400 (Fri, 15 Oct 2021) |
| EndedAt: 2021-10-15 08:19:26 -0400 (Fri, 15 Oct 2021) |
| EllapsedTime: 94.5 seconds |
| RetCode: 0 |
| Status: OK |
| PackageFile: BioTIP_1.6.0.zip |
| PackageFileSize: 6.068 MiB |
##############################################################################
##############################################################################
###
### Running command:
###
### rm -rf BioTIP.buildbin-libdir && mkdir BioTIP.buildbin-libdir && C:\Users\biocbuild\bbs-3.13-bioc\R\bin\R.exe CMD INSTALL --merge-multiarch --build --library=BioTIP.buildbin-libdir BioTIP_1.6.0.tar.gz
###
##############################################################################
##############################################################################
install for i386
* installing *source* package 'BioTIP' ...
** using staged installation
** R
** data
*** moving datasets to lazyload DB
** inst
** byte-compile and prepare package for lazy loading
** help
*** installing help indices
converting help for package 'BioTIP'
finding HTML links ... done
BioTIP-package html
GSE6136_cli html
GSE6136_matrix html
ILEF html
avg.cor.shrink html
cod html
cor.shrink html
gencode html
getBiotypes html
getCTS html
getCluster_methods html
getIc html
getIc.new html
getMCI html
finding level-2 HTML links ... done
getMCI_inner html
getMaxMCImember html
getMaxStats html
getNetwork html
getReadthrough html
intron html
optimize.sd_selection html
plotBar_MCI html
plotIc html
plotMaxMCI html
plot_Ic_Simulation html
plot_MCI_Simulation html
plot_SS_Simulation html
sd_selection html
simulationMCI html
simulation_Ic html
simulation_Ic_sample html
** building package indices
** installing vignettes
** testing if installed package can be loaded from temporary location
** testing if installed package can be loaded from final location
** testing if installed package keeps a record of temporary installation path
install for x64
* installing *source* package 'BioTIP' ...
** testing if installed package can be loaded
* MD5 sums
packaged installation of 'BioTIP' as BioTIP_1.6.0.zip
* DONE (BioTIP)