| Back to Multiple platform build/check report for BioC 3.13 | 
 | 
This page was generated on 2021-10-15 15:06:01 -0400 (Fri, 15 Oct 2021).
| To the developers/maintainers of the CNORfuzzy package: - Please allow up to 24 hours (and sometimes 48 hours) for your latest push to git@git.bioconductor.org:packages/CNORfuzzy.git to reflect on this report. See How and When does the builder pull? When will my changes propagate? here for more information. - Make sure to use the following settings in order to reproduce any error or warning you see on this page. | 
| Package 345/2041 | Hostname | OS / Arch | INSTALL | BUILD | CHECK | BUILD BIN | ||||||||
| CNORfuzzy 1.34.0  (landing page) T. Cokelaer 
 | nebbiolo1 | Linux (Ubuntu 20.04.2 LTS) / x86_64 | OK | OK | OK |  | ||||||||
| tokay2 | Windows Server 2012 R2 Standard / x64 | OK | OK | OK | OK |  | ||||||||
| machv2 | macOS 10.14.6 Mojave / x86_64 | OK | OK | OK | OK |  | ||||||||
| Package: CNORfuzzy | 
| Version: 1.34.0 | 
| Command: rm -rf CNORfuzzy.buildbin-libdir && mkdir CNORfuzzy.buildbin-libdir && C:\Users\biocbuild\bbs-3.13-bioc\R\bin\R.exe CMD INSTALL --merge-multiarch --build --library=CNORfuzzy.buildbin-libdir CNORfuzzy_1.34.0.tar.gz | 
| StartedAt: 2021-10-15 08:38:45 -0400 (Fri, 15 Oct 2021) | 
| EndedAt: 2021-10-15 08:40:09 -0400 (Fri, 15 Oct 2021) | 
| EllapsedTime: 84.0 seconds | 
| RetCode: 0 | 
| Status: OK | 
| PackageFile: CNORfuzzy_1.34.0.zip | 
| PackageFileSize: 743.9 KiB | 
##############################################################################
##############################################################################
###
### Running command:
###
###   rm -rf CNORfuzzy.buildbin-libdir && mkdir CNORfuzzy.buildbin-libdir && C:\Users\biocbuild\bbs-3.13-bioc\R\bin\R.exe CMD INSTALL --merge-multiarch --build --library=CNORfuzzy.buildbin-libdir CNORfuzzy_1.34.0.tar.gz
###
##############################################################################
##############################################################################
install for i386
* installing *source* package 'CNORfuzzy' ...
** using staged installation
** libs
"C:/rtools40/mingw32/bin/"gcc  -I"C:/Users/BIOCBU~1/BBS-3~1.13-/R/include" -DNDEBUG     -I"c:/extsoft/include"     -O2 -Wall  -std=gnu99 -mfpmath=sse -msse2 -mstackrealign  -c simulatorT1.c -o simulatorT1.o
C:/rtools40/mingw32/bin/gcc -shared -s -static-libgcc -o CNORfuzzy.dll tmp.def simulatorT1.o -Lc:/extsoft/lib/i386 -Lc:/extsoft/lib -LC:/Users/BIOCBU~1/BBS-3~1.13-/R/bin/i386 -lR
installing to C:/Users/biocbuild/bbs-3.13-bioc/meat/CNORfuzzy.buildbin-libdir/00LOCK-CNORfuzzy/00new/CNORfuzzy/libs/i386
** R
** inst
** byte-compile and prepare package for lazy loading
** help
*** installing help indices
  converting help for package 'CNORfuzzy'
    finding HTML links ... done
    CNORfuzzy-package                       html  
    finding level-2 HTML links ... done
    CNORwrapFuzzy                           html  
    compileMultiRes                         html  
    computeScoreFuzzy                       html  
    defaultParametersFuzzy                  html  
    gaDiscreteT1                            html  
    getRefinedModel                         html  
    interpretDiscreteGA                     html  
    plotMeanFuzzyFit                        html  
    prep4simFuzzy                           html  
    reduceFuzzy                             html  
    simFuzzyT1                              html  
    writeFuzzyNetwork                       html  
** building package indices
** installing vignettes
** testing if installed package can be loaded from temporary location
** testing if installed package can be loaded from final location
** testing if installed package keeps a record of temporary installation path
install for x64
* installing *source* package 'CNORfuzzy' ...
** libs
"C:/rtools40/mingw64/bin/"gcc  -I"C:/Users/BIOCBU~1/BBS-3~1.13-/R/include" -DNDEBUG     -I"C:/extsoft/include"     -O2 -Wall  -std=gnu99 -mfpmath=sse -msse2 -mstackrealign  -c simulatorT1.c -o simulatorT1.o
C:/rtools40/mingw64/bin/gcc -shared -s -static-libgcc -o CNORfuzzy.dll tmp.def simulatorT1.o -LC:/extsoft/lib/x64 -LC:/extsoft/lib -LC:/Users/BIOCBU~1/BBS-3~1.13-/R/bin/x64 -lR
installing to C:/Users/biocbuild/bbs-3.13-bioc/meat/CNORfuzzy.buildbin-libdir/CNORfuzzy/libs/x64
** testing if installed package can be loaded
* MD5 sums
packaged installation of 'CNORfuzzy' as CNORfuzzy_1.34.0.zip
* DONE (CNORfuzzy)