| Back to Multiple platform build/check report for BioC 3.13 |
|
This page was generated on 2021-10-15 15:05:59 -0400 (Fri, 15 Oct 2021).
|
To the developers/maintainers of the CancerSubtypes package: - Please allow up to 24 hours (and sometimes 48 hours) for your latest push to git@git.bioconductor.org:packages/CancerSubtypes.git to reflect on this report. See How and When does the builder pull? When will my changes propagate? here for more information. - Make sure to use the following settings in order to reproduce any error or warning you see on this page. |
| Package 238/2041 | Hostname | OS / Arch | INSTALL | BUILD | CHECK | BUILD BIN | ||||||||
| CancerSubtypes 1.18.0 (landing page) Taosheng Xu
| nebbiolo1 | Linux (Ubuntu 20.04.2 LTS) / x86_64 | OK | OK | OK | |||||||||
| tokay2 | Windows Server 2012 R2 Standard / x64 | OK | OK | OK | OK | |||||||||
| machv2 | macOS 10.14.6 Mojave / x86_64 | OK | OK | OK | OK | |||||||||
| Package: CancerSubtypes |
| Version: 1.18.0 |
| Command: rm -rf CancerSubtypes.buildbin-libdir && mkdir CancerSubtypes.buildbin-libdir && C:\Users\biocbuild\bbs-3.13-bioc\R\bin\R.exe CMD INSTALL --merge-multiarch --build --library=CancerSubtypes.buildbin-libdir CancerSubtypes_1.18.0.tar.gz |
| StartedAt: 2021-10-15 08:24:15 -0400 (Fri, 15 Oct 2021) |
| EndedAt: 2021-10-15 08:25:40 -0400 (Fri, 15 Oct 2021) |
| EllapsedTime: 85.2 seconds |
| RetCode: 0 |
| Status: OK |
| PackageFile: CancerSubtypes_1.18.0.zip |
| PackageFileSize: 1.75 MiB |
##############################################################################
##############################################################################
###
### Running command:
###
### rm -rf CancerSubtypes.buildbin-libdir && mkdir CancerSubtypes.buildbin-libdir && C:\Users\biocbuild\bbs-3.13-bioc\R\bin\R.exe CMD INSTALL --merge-multiarch --build --library=CancerSubtypes.buildbin-libdir CancerSubtypes_1.18.0.tar.gz
###
##############################################################################
##############################################################################
install for i386
* installing *source* package 'CancerSubtypes' ...
** using staged installation
** R
** data
** inst
** byte-compile and prepare package for lazy loading
** help
*** installing help indices
converting help for package 'CancerSubtypes'
finding HTML links ... done
DiffExp.limma html
ExecuteCC html
ExecuteCNMF html
finding level-2 HTML links ... done
ExecuteSNF.CC html
ExecuteSNF html
ExecuteWSNF html
ExecuteiCluster html
FSbyCox html
FSbyMAD html
FSbyPCA html
FSbyVar html
GeneExp html
Ranking html
affinityMatrix html
data.checkDistribution html
data.imputation html
data.normalization html
dist2 html
drawHeatmap html
miRNAExp html
saveFigure html
sigclustTest html
silhouette_SimilarityMatrix html
spectralAlg html
status html
survAnalysis html
time html
** building package indices
** installing vignettes
** testing if installed package can be loaded from temporary location
** testing if installed package can be loaded from final location
** testing if installed package keeps a record of temporary installation path
install for x64
* installing *source* package 'CancerSubtypes' ...
** testing if installed package can be loaded
* MD5 sums
packaged installation of 'CancerSubtypes' as CancerSubtypes_1.18.0.zip
* DONE (CancerSubtypes)