| Back to Multiple platform build/check report for BioC 3.13 | 
 | 
This page was generated on 2021-10-15 15:06:03 -0400 (Fri, 15 Oct 2021).
| To the developers/maintainers of the DRIMSeq package: - Please allow up to 24 hours (and sometimes 48 hours) for your latest push to git@git.bioconductor.org:packages/DRIMSeq.git to reflect on this report. See How and When does the builder pull? When will my changes propagate? here for more information. - Make sure to use the following settings in order to reproduce any error or warning you see on this page. | 
| Package 532/2041 | Hostname | OS / Arch | INSTALL | BUILD | CHECK | BUILD BIN | ||||||||
| DRIMSeq 1.20.0  (landing page) Malgorzata Nowicka 
 | nebbiolo1 | Linux (Ubuntu 20.04.2 LTS) / x86_64 | OK | OK | WARNINGS |  | ||||||||
| tokay2 | Windows Server 2012 R2 Standard / x64 | OK | OK | WARNINGS | OK |  | ||||||||
| machv2 | macOS 10.14.6 Mojave / x86_64 | OK | OK | WARNINGS | OK |  | ||||||||
| Package: DRIMSeq | 
| Version: 1.20.0 | 
| Command: rm -rf DRIMSeq.buildbin-libdir && mkdir DRIMSeq.buildbin-libdir && C:\Users\biocbuild\bbs-3.13-bioc\R\bin\R.exe CMD INSTALL --merge-multiarch --build --library=DRIMSeq.buildbin-libdir DRIMSeq_1.20.0.tar.gz | 
| StartedAt: 2021-10-15 09:03:43 -0400 (Fri, 15 Oct 2021) | 
| EndedAt: 2021-10-15 09:04:55 -0400 (Fri, 15 Oct 2021) | 
| EllapsedTime: 72.7 seconds | 
| RetCode: 0 | 
| Status: OK | 
| PackageFile: DRIMSeq_1.20.0.zip | 
| PackageFileSize: 801 KiB | 
##############################################################################
##############################################################################
###
### Running command:
###
###   rm -rf DRIMSeq.buildbin-libdir && mkdir DRIMSeq.buildbin-libdir && C:\Users\biocbuild\bbs-3.13-bioc\R\bin\R.exe CMD INSTALL --merge-multiarch --build --library=DRIMSeq.buildbin-libdir DRIMSeq_1.20.0.tar.gz
###
##############################################################################
##############################################################################
install for i386
* installing *source* package 'DRIMSeq' ...
** using staged installation
** R
** inst
** preparing package for lazy loading
Creating a new generic function for 'proportions' in package 'DRIMSeq'
** help
*** installing help indices
  converting help for package 'DRIMSeq'
    finding HTML links ... done
    MatrixList-class                        html  
    dmDSdata-class                          html  
    dmDSdata                                html  
    dmDSfit-class                           html  
    dmDSprecision-class                     html  
    dmDStest-class                          html  
    dmFilter                                html  
    dmFit                                   html  
    finding level-2 HTML links ... done
    dmPrecision                             html  
    dmSQTLdata-class                        html  
    dmSQTLdata                              html  
    dmSQTLfit-class                         html  
    dmSQTLprecision-class                   html  
    dmSQTLtest-class                        html  
    dmTest                                  html  
    dm_plotDataDSInfo                       html  
    dm_plotProportions                      html  
    plotData                                html  
    plotPValues                             html  
    plotPrecision                           html  
    plotProportions                         html  
** building package indices
** installing vignettes
** testing if installed package can be loaded from temporary location
** testing if installed package can be loaded from final location
** testing if installed package keeps a record of temporary installation path
install for x64
* installing *source* package 'DRIMSeq' ...
** testing if installed package can be loaded
* MD5 sums
packaged installation of 'DRIMSeq' as DRIMSeq_1.20.0.zip
* DONE (DRIMSeq)