| Back to Multiple platform build/check report for BioC 3.13 |
|
This page was generated on 2021-10-15 15:06:04 -0400 (Fri, 15 Oct 2021).
|
To the developers/maintainers of the EventPointer package: - Please allow up to 24 hours (and sometimes 48 hours) for your latest push to git@git.bioconductor.org:packages/EventPointer.git to reflect on this report. See How and When does the builder pull? When will my changes propagate? here for more information. - Make sure to use the following settings in order to reproduce any error or warning you see on this page. |
| Package 600/2041 | Hostname | OS / Arch | INSTALL | BUILD | CHECK | BUILD BIN | ||||||||
| EventPointer 3.0.0 (landing page) Juan A. Ferrer-Bonsoms
| nebbiolo1 | Linux (Ubuntu 20.04.2 LTS) / x86_64 | OK | OK | OK | |||||||||
| tokay2 | Windows Server 2012 R2 Standard / x64 | OK | OK | OK | OK | |||||||||
| machv2 | macOS 10.14.6 Mojave / x86_64 | OK | OK | OK | OK | |||||||||
| Package: EventPointer |
| Version: 3.0.0 |
| Command: chmod a+r EventPointer -R && C:\Users\biocbuild\bbs-3.13-bioc\R\bin\R.exe CMD build --keep-empty-dirs --no-resave-data EventPointer |
| StartedAt: 2021-10-14 14:01:28 -0400 (Thu, 14 Oct 2021) |
| EndedAt: 2021-10-14 14:04:25 -0400 (Thu, 14 Oct 2021) |
| EllapsedTime: 176.5 seconds |
| RetCode: 0 |
| Status: OK |
| PackageFile: EventPointer_3.0.0.tar.gz |
| PackageFileSize: 1.608 MiB |
##############################################################################
##############################################################################
###
### Running command:
###
### chmod a+r EventPointer -R && C:\Users\biocbuild\bbs-3.13-bioc\R\bin\R.exe CMD build --keep-empty-dirs --no-resave-data EventPointer
###
##############################################################################
##############################################################################
* checking for file 'EventPointer/DESCRIPTION' ... OK
* preparing 'EventPointer':
* checking DESCRIPTION meta-information ... OK
* cleaning src
* installing the package to build vignettes
* creating vignettes ... OK
* cleaning src
* checking for LF line-endings in source and make files and shell scripts
* checking for empty or unneeded directories
NB: this package now depends on R (>= 3.5.0)
WARNING: Added dependency on R >= 3.5.0 because serialized objects in
serialize/load version 3 cannot be read in older versions of R.
File(s) containing such objects:
'EventPointer/data/EventXtrans.rda' 'EventPointer/data/Fit.rda'
'EventPointer/data/PSIss.rda' 'EventPointer/data/TxD.rda'
* building 'EventPointer_3.0.0.tar.gz'