| Back to Multiple platform build/check report for BioC 3.13 |
|
This page was generated on 2021-10-15 15:06:36 -0400 (Fri, 15 Oct 2021).
|
To the developers/maintainers of the FlowSOM package: - Please allow up to 24 hours (and sometimes 48 hours) for your latest push to git@git.bioconductor.org:packages/FlowSOM.git to reflect on this report. See How and When does the builder pull? When will my changes propagate? here for more information. - Make sure to use the following settings in order to reproduce any error or warning you see on this page. |
| Package 661/2041 | Hostname | OS / Arch | INSTALL | BUILD | CHECK | BUILD BIN | ||||||||
| FlowSOM 2.0.0 (landing page) Sofie Van Gassen
| nebbiolo1 | Linux (Ubuntu 20.04.2 LTS) / x86_64 | OK | OK | OK | |||||||||
| tokay2 | Windows Server 2012 R2 Standard / x64 | OK | OK | OK | OK | |||||||||
| machv2 | macOS 10.14.6 Mojave / x86_64 | OK | OK | OK | OK | |||||||||
| Package: FlowSOM |
| Version: 2.0.0 |
| Command: /Library/Frameworks/R.framework/Versions/Current/Resources/bin/R CMD check --install=check:FlowSOM.install-out.txt --library=/Library/Frameworks/R.framework/Versions/Current/Resources/library --no-vignettes --timings FlowSOM_2.0.0.tar.gz |
| StartedAt: 2021-10-14 19:08:38 -0400 (Thu, 14 Oct 2021) |
| EndedAt: 2021-10-14 19:20:47 -0400 (Thu, 14 Oct 2021) |
| EllapsedTime: 728.8 seconds |
| RetCode: 0 |
| Status: OK |
| CheckDir: FlowSOM.Rcheck |
| Warnings: 0 |
##############################################################################
##############################################################################
###
### Running command:
###
### /Library/Frameworks/R.framework/Versions/Current/Resources/bin/R CMD check --install=check:FlowSOM.install-out.txt --library=/Library/Frameworks/R.framework/Versions/Current/Resources/library --no-vignettes --timings FlowSOM_2.0.0.tar.gz
###
##############################################################################
##############################################################################
* using log directory ‘/Users/biocbuild/bbs-3.13-bioc/meat/FlowSOM.Rcheck’
* using R version 4.1.1 (2021-08-10)
* using platform: x86_64-apple-darwin17.0 (64-bit)
* using session charset: UTF-8
* using option ‘--no-vignettes’
* checking for file ‘FlowSOM/DESCRIPTION’ ... OK
* this is package ‘FlowSOM’ version ‘2.0.0’
* checking package namespace information ... OK
* checking package dependencies ... OK
* checking if this is a source package ... OK
* checking if there is a namespace ... OK
* checking for hidden files and directories ... NOTE
Found the following hidden files and directories:
.git_fetch_output.txt
.git_merge_output.txt
These were most likely included in error. See section ‘Package
structure’ in the ‘Writing R Extensions’ manual.
* checking for portable file names ... OK
* checking for sufficient/correct file permissions ... OK
* checking whether package ‘FlowSOM’ can be installed ... OK
* checking installed package size ... OK
* checking package directory ... OK
* checking ‘build’ directory ... OK
* checking DESCRIPTION meta-information ... OK
* checking top-level files ... OK
* checking for left-over files ... OK
* checking index information ... OK
* checking package subdirectories ... OK
* checking R files for non-ASCII characters ... OK
* checking R files for syntax errors ... OK
* checking whether the package can be loaded ... OK
* checking whether the package can be loaded with stated dependencies ... OK
* checking whether the package can be unloaded cleanly ... OK
* checking whether the namespace can be loaded with stated dependencies ... OK
* checking whether the namespace can be unloaded cleanly ... OK
* checking dependencies in R code ... OK
* checking S3 generic/method consistency ... OK
* checking replacement functions ... OK
* checking foreign function calls ... OK
* checking R code for possible problems ... OK
* checking Rd files ... OK
* checking Rd metadata ... OK
* checking Rd cross-references ... OK
* checking for missing documentation entries ... OK
* checking for code/documentation mismatches ... OK
* checking Rd \usage sections ... OK
* checking Rd contents ... OK
* checking for unstated dependencies in examples ... OK
* checking line endings in C/C++/Fortran sources/headers ... OK
* checking compiled code ... NOTE
Note: information on .o files is not available
* checking sizes of PDF files under ‘inst/doc’ ... OK
* checking files in ‘vignettes’ ... OK
* checking examples ... OK
Examples with CPU (user + system) or elapsed time > 5s
user system elapsed
FlowSOMmary 76.913 2.009 79.106
PlotDimRed 60.054 1.599 61.743
RelabelMetaclusters 30.179 1.453 31.662
PlotMarker 25.869 1.297 27.226
GroupStats 21.569 1.326 22.931
ReassignMetaclusters 20.625 1.109 21.763
PlotGroups 18.924 1.331 20.400
FlowSOM 17.715 1.262 19.008
AddAnnotation 13.011 0.712 13.792
QueryMultiple 13.238 0.383 13.636
query_multiple 12.579 0.320 12.929
UpdateNodeSize 11.989 0.474 12.475
PlotNode 10.505 1.204 11.724
PlotStars 10.045 0.887 10.948
QueryStarPlot 9.917 0.464 10.393
Plot2DScatters 9.332 0.698 10.058
PlotManualBars 8.561 0.672 9.261
PlotNumbers 8.291 0.831 9.135
PlotPies 8.342 0.694 9.144
GetFlowJoLabels 8.344 0.469 8.860
PlotFlowSOM 7.876 0.852 8.744
CountGroups 7.224 0.752 7.986
PlotVariable 6.001 0.691 6.700
NMetaclusters 5.790 0.887 6.689
PlotLabels 5.981 0.626 6.616
SaveClustersToFCS 5.729 0.727 6.467
print.FlowSOM 5.435 0.905 6.350
TestOutliers 5.625 0.647 6.359
GetFeatures 6.046 0.211 6.269
NClusters 5.502 0.696 6.215
MetaclusterMFIs 5.267 0.724 6.012
GetClusterMFIs 5.393 0.392 5.793
GetCounts 5.190 0.521 5.732
GetMetaclusterMFIs 5.014 0.601 5.628
GetMFIs 4.743 0.838 5.593
MetaclusterCVs 4.807 0.757 5.587
GetMetaclusters 4.970 0.512 5.492
FlowSOMSubset 5.146 0.323 5.485
GetClusters 4.798 0.493 5.296
GetMetaclusterCVs 4.462 0.686 5.156
ReadInput 4.500 0.574 5.090
GetPercentages 4.457 0.592 5.065
* checking for unstated dependencies in vignettes ... OK
* checking package vignettes in ‘inst/doc’ ... OK
* checking running R code from vignettes ... SKIPPED
* checking re-building of vignette outputs ... SKIPPED
* checking PDF version of manual ... OK
* DONE
Status: 2 NOTEs
See
‘/Users/biocbuild/bbs-3.13-bioc/meat/FlowSOM.Rcheck/00check.log’
for details.
FlowSOM.Rcheck/00install.out
############################################################################## ############################################################################## ### ### Running command: ### ### /Library/Frameworks/R.framework/Versions/Current/Resources/bin/R CMD INSTALL FlowSOM ### ############################################################################## ############################################################################## * installing to library ‘/Library/Frameworks/R.framework/Versions/4.1/Resources/library’ * installing *source* package ‘FlowSOM’ ... ** using staged installation ** libs clang -mmacosx-version-min=10.13 -I"/Library/Frameworks/R.framework/Resources/include" -DNDEBUG -I/usr/local/include -fPIC -Wall -g -O2 -c som.c -o som.o clang -mmacosx-version-min=10.13 -dynamiclib -Wl,-headerpad_max_install_names -undefined dynamic_lookup -single_module -multiply_defined suppress -L/Library/Frameworks/R.framework/Resources/lib -L/usr/local/lib -o FlowSOM.so som.o -F/Library/Frameworks/R.framework/.. -framework R -Wl,-framework -Wl,CoreFoundation installing to /Library/Frameworks/R.framework/Versions/4.1/Resources/library/00LOCK-FlowSOM/00new/FlowSOM/libs ** R ** inst ** byte-compile and prepare package for lazy loading ** help *** installing help indices ** building package indices ** installing vignettes ** testing if installed package can be loaded from temporary location ** checking absolute paths in shared objects and dynamic libraries ** testing if installed package can be loaded from final location ** testing if installed package keeps a record of temporary installation path * DONE (FlowSOM)
FlowSOM.Rcheck/FlowSOM-Ex.timings
| name | user | system | elapsed | |
| AddAnnotation | 13.011 | 0.712 | 13.792 | |
| AggregateFlowFrames | 0.120 | 0.003 | 0.124 | |
| BuildMST | 1.567 | 0.098 | 1.666 | |
| BuildSOM | 2.081 | 0.087 | 2.169 | |
| CountGroups | 7.224 | 0.752 | 7.986 | |
| FMeasure | 0.001 | 0.000 | 0.002 | |
| FlowSOM | 17.715 | 1.262 | 19.008 | |
| FlowSOMSubset | 5.146 | 0.323 | 5.485 | |
| FlowSOMmary | 76.913 | 2.009 | 79.106 | |
| GetChannels | 0.059 | 0.002 | 0.061 | |
| GetClusterMFIs | 5.393 | 0.392 | 5.793 | |
| GetClusters | 4.798 | 0.493 | 5.296 | |
| GetCounts | 5.190 | 0.521 | 5.732 | |
| GetFeatures | 6.046 | 0.211 | 6.269 | |
| GetFlowJoLabels | 8.344 | 0.469 | 8.860 | |
| GetMFIs | 4.743 | 0.838 | 5.593 | |
| GetMarkers | 0.052 | 0.002 | 0.054 | |
| GetMetaclusterCVs | 4.462 | 0.686 | 5.156 | |
| GetMetaclusterMFIs | 5.014 | 0.601 | 5.628 | |
| GetMetaclusters | 4.970 | 0.512 | 5.492 | |
| GetPercentages | 4.457 | 0.592 | 5.065 | |
| GroupStats | 21.569 | 1.326 | 22.931 | |
| Initialize_KWSP | 0.008 | 0.000 | 0.008 | |
| Initialize_PCA | 0.001 | 0.001 | 0.001 | |
| MetaClustering | 4.237 | 0.621 | 4.924 | |
| MetaclusterCVs | 4.807 | 0.757 | 5.587 | |
| MetaclusterMFIs | 5.267 | 0.724 | 6.012 | |
| NClusters | 5.502 | 0.696 | 6.215 | |
| NMetaclusters | 5.790 | 0.887 | 6.689 | |
| NewData | 4.392 | 0.358 | 4.805 | |
| Plot2DScatters | 9.332 | 0.698 | 10.058 | |
| PlotCenters | 1.566 | 0.085 | 1.654 | |
| PlotClusters2D | 1.593 | 0.135 | 1.730 | |
| PlotDimRed | 60.054 | 1.599 | 61.743 | |
| PlotFileScatters | 0.811 | 0.022 | 0.835 | |
| PlotFlowSOM | 7.876 | 0.852 | 8.744 | |
| PlotGroups | 18.924 | 1.331 | 20.400 | |
| PlotLabels | 5.981 | 0.626 | 6.616 | |
| PlotManualBars | 8.561 | 0.672 | 9.261 | |
| PlotMarker | 25.869 | 1.297 | 27.226 | |
| PlotNode | 10.505 | 1.204 | 11.724 | |
| PlotNumbers | 8.291 | 0.831 | 9.135 | |
| PlotOverview2D | 4.431 | 0.526 | 4.962 | |
| PlotPies | 8.342 | 0.694 | 9.144 | |
| PlotSD | 2.683 | 0.223 | 2.911 | |
| PlotStars | 10.045 | 0.887 | 10.948 | |
| PlotVariable | 6.001 | 0.691 | 6.700 | |
| Purity | 0.001 | 0.001 | 0.001 | |
| QueryMultiple | 13.238 | 0.383 | 13.636 | |
| QueryStarPlot | 9.917 | 0.464 | 10.393 | |
| ReadInput | 4.500 | 0.574 | 5.090 | |
| ReassignMetaclusters | 20.625 | 1.109 | 21.763 | |
| RelabelMetaclusters | 30.179 | 1.453 | 31.662 | |
| SaveClustersToFCS | 5.729 | 0.727 | 6.467 | |
| TestOutliers | 5.625 | 0.647 | 6.359 | |
| UpdateNodeSize | 11.989 | 0.474 | 12.475 | |
| get_channels | 0.055 | 0.002 | 0.057 | |
| get_markers | 0.051 | 0.002 | 0.054 | |
| metaClustering_consensus | 3.420 | 0.367 | 3.793 | |
| plotStarLegend | 0.488 | 0.003 | 0.493 | |
| print.FlowSOM | 5.435 | 0.905 | 6.350 | |
| query_multiple | 12.579 | 0.320 | 12.929 | |