| Back to Multiple platform build/check report for BioC 3.13 |
|
This page was generated on 2021-10-15 15:06:06 -0400 (Fri, 15 Oct 2021).
|
To the developers/maintainers of the GenomicDistributions package: - Please allow up to 24 hours (and sometimes 48 hours) for your latest push to git@git.bioconductor.org:packages/GenomicDistributions.git to reflect on this report. See How and When does the builder pull? When will my changes propagate? here for more information. - Make sure to use the following settings in order to reproduce any error or warning you see on this page. |
| Package 741/2041 | Hostname | OS / Arch | INSTALL | BUILD | CHECK | BUILD BIN | ||||||||
| GenomicDistributions 1.0.0 (landing page) Kristyna Kupkova
| nebbiolo1 | Linux (Ubuntu 20.04.2 LTS) / x86_64 | OK | OK | OK | |||||||||
| tokay2 | Windows Server 2012 R2 Standard / x64 | OK | OK | OK | OK | |||||||||
| machv2 | macOS 10.14.6 Mojave / x86_64 | OK | OK | OK | OK | |||||||||
| Package: GenomicDistributions |
| Version: 1.0.0 |
| Command: rm -rf GenomicDistributions.buildbin-libdir && mkdir GenomicDistributions.buildbin-libdir && C:\Users\biocbuild\bbs-3.13-bioc\R\bin\R.exe CMD INSTALL --merge-multiarch --build --library=GenomicDistributions.buildbin-libdir GenomicDistributions_1.0.0.tar.gz |
| StartedAt: 2021-10-15 09:32:52 -0400 (Fri, 15 Oct 2021) |
| EndedAt: 2021-10-15 09:34:27 -0400 (Fri, 15 Oct 2021) |
| EllapsedTime: 94.6 seconds |
| RetCode: 0 |
| Status: OK |
| PackageFile: GenomicDistributions_1.0.0.zip |
| PackageFileSize: 3.701 MiB |
##############################################################################
##############################################################################
###
### Running command:
###
### rm -rf GenomicDistributions.buildbin-libdir && mkdir GenomicDistributions.buildbin-libdir && C:\Users\biocbuild\bbs-3.13-bioc\R\bin\R.exe CMD INSTALL --merge-multiarch --build --library=GenomicDistributions.buildbin-libdir GenomicDistributions_1.0.0.tar.gz
###
##############################################################################
##############################################################################
install for i386
* installing *source* package 'GenomicDistributions' ...
** using staged installation
** R
** data
*** moving datasets to lazyload DB
** inst
** byte-compile and prepare package for lazy loading
** help
*** installing help indices
converting help for package 'GenomicDistributions'
finding HTML links ... done
BSdtToGRanges html
GenomicDistributions html
TSS_hg19 html
binBSGenome html
binChroms html
binRegion html
calcChromBins html
calcChromBinsRef html
calcCumulativePartitions html
calcCumulativePartitionsRef html
calcExpectedPartitions html
calcExpectedPartitionsRef html
calcFeatureDist html
calcFeatureDistRefTSS html
calcGCContent html
calcGCContentRef html
calcNeighborDist html
calcOpenSignal html
calcPartitions html
calcPartitionsRef html
calcWidth html
cellTypeMetadata html
chromSizes_hg19 html
dot-requireAndReturn html
dot-validateInputs html
dtToGr html
dtToGrInternal html
exampleOpenSignalMatrix_hg19 html
geneModels_hg19 html
genomePartitionList html
getChromSizes html
getGeneModels html
getReferenceData html
grToDt html
labelCuts html
loadBSgenome html
loadEnsDb html
neighbordt html
nlist html
plotChromBins html
plotCumulativePartitions html
plotExpectedPartitions html
plotFeatureDist html
plotGCContent html
plotNeighborDist html
plotOpenSignal html
plotPartitions html
plotQTHist html
setB_100 html
splitDataTable html
theme_blank_facet_label html
vistaEnhancers html
** building package indices
** installing vignettes
** testing if installed package can be loaded from temporary location
** testing if installed package can be loaded from final location
** testing if installed package keeps a record of temporary installation path
install for x64
* installing *source* package 'GenomicDistributions' ...
** testing if installed package can be loaded
* MD5 sums
packaged installation of 'GenomicDistributions' as GenomicDistributions_1.0.0.zip
* DONE (GenomicDistributions)