| Back to Multiple platform build/check report for BioC 3.13 |
|
This page was generated on 2021-10-15 15:06:10 -0400 (Fri, 15 Oct 2021).
|
To the developers/maintainers of the MatrixGenerics package: - Please allow up to 24 hours (and sometimes 48 hours) for your latest push to git@git.bioconductor.org:packages/MatrixGenerics.git to reflect on this report. See How and When does the builder pull? When will my changes propagate? here for more information. - Make sure to use the following settings in order to reproduce any error or warning you see on this page. |
| Package 1043/2041 | Hostname | OS / Arch | INSTALL | BUILD | CHECK | BUILD BIN | ||||||||
| MatrixGenerics 1.4.3 (landing page) Peter Hickey
| nebbiolo1 | Linux (Ubuntu 20.04.2 LTS) / x86_64 | OK | OK | OK | |||||||||
| tokay2 | Windows Server 2012 R2 Standard / x64 | OK | OK | OK | OK | |||||||||
| machv2 | macOS 10.14.6 Mojave / x86_64 | OK | OK | OK | OK | |||||||||
| Package: MatrixGenerics |
| Version: 1.4.3 |
| Command: rm -rf MatrixGenerics.buildbin-libdir && mkdir MatrixGenerics.buildbin-libdir && C:\Users\biocbuild\bbs-3.13-bioc\R\bin\R.exe CMD INSTALL --merge-multiarch --build --library=MatrixGenerics.buildbin-libdir MatrixGenerics_1.4.3.tar.gz |
| StartedAt: 2021-10-15 10:12:31 -0400 (Fri, 15 Oct 2021) |
| EndedAt: 2021-10-15 10:14:03 -0400 (Fri, 15 Oct 2021) |
| EllapsedTime: 91.4 seconds |
| RetCode: 0 |
| Status: OK |
| PackageFile: MatrixGenerics_1.4.3.zip |
| PackageFileSize: 430.7 KiB |
##############################################################################
##############################################################################
###
### Running command:
###
### rm -rf MatrixGenerics.buildbin-libdir && mkdir MatrixGenerics.buildbin-libdir && C:\Users\biocbuild\bbs-3.13-bioc\R\bin\R.exe CMD INSTALL --merge-multiarch --build --library=MatrixGenerics.buildbin-libdir MatrixGenerics_1.4.3.tar.gz
###
##############################################################################
##############################################################################
install for i386
* installing *source* package 'MatrixGenerics' ...
** using staged installation
** R
** inst
** byte-compile and prepare package for lazy loading
** help
*** installing help indices
converting help for package 'MatrixGenerics'
finding HTML links ... done
MatrixGenerics-package html
rowAlls html
rowAnyNAs html
rowAnys html
rowAvgsPerColSet html
rowCollapse html
rowCounts html
rowCummaxs html
rowCummins html
rowCumprods html
rowCumsums html
rowDiffs html
rowIQRDiffs html
rowIQRs html
rowLogSumExps html
rowMadDiffs html
rowMads html
rowMaxs html
rowMeans2 html
rowMedians html
rowMins html
rowOrderStats html
rowProds html
rowQuantiles html
rowRanges html
rowRanks html
rowSdDiffs html
rowSds html
rowSums2 html
rowTabulates html
rowVarDiffs html
rowVars html
rowWeightedMads html
rowWeightedMeans html
rowWeightedMedians html
rowWeightedSds html
rowWeightedVars html
** building package indices
** testing if installed package can be loaded from temporary location
** testing if installed package can be loaded from final location
** testing if installed package keeps a record of temporary installation path
install for x64
* installing *source* package 'MatrixGenerics' ...
** testing if installed package can be loaded
* MD5 sums
packaged installation of 'MatrixGenerics' as MatrixGenerics_1.4.3.zip
* DONE (MatrixGenerics)