| Back to Multiple platform build/check report for BioC 3.13 |
|
This page was generated on 2021-10-15 15:06:13 -0400 (Fri, 15 Oct 2021).
|
To the developers/maintainers of the NanoStringQCPro package: - Please allow up to 24 hours (and sometimes 48 hours) for your latest push to git@git.bioconductor.org:packages/NanoStringQCPro.git to reflect on this report. See How and When does the builder pull? When will my changes propagate? here for more information. - Make sure to use the following settings in order to reproduce any error or warning you see on this page. |
| Package 1247/2041 | Hostname | OS / Arch | INSTALL | BUILD | CHECK | BUILD BIN | ||||||||
| NanoStringQCPro 1.24.0 (landing page) Robert Ziman
| nebbiolo1 | Linux (Ubuntu 20.04.2 LTS) / x86_64 | OK | OK | OK | |||||||||
| tokay2 | Windows Server 2012 R2 Standard / x64 | OK | OK | OK | OK | |||||||||
| machv2 | macOS 10.14.6 Mojave / x86_64 | OK | OK | OK | OK | |||||||||
| Package: NanoStringQCPro |
| Version: 1.24.0 |
| Command: rm -rf NanoStringQCPro.buildbin-libdir && mkdir NanoStringQCPro.buildbin-libdir && C:\Users\biocbuild\bbs-3.13-bioc\R\bin\R.exe CMD INSTALL --merge-multiarch --build --library=NanoStringQCPro.buildbin-libdir NanoStringQCPro_1.24.0.tar.gz |
| StartedAt: 2021-10-15 10:39:47 -0400 (Fri, 15 Oct 2021) |
| EndedAt: 2021-10-15 10:40:53 -0400 (Fri, 15 Oct 2021) |
| EllapsedTime: 66.2 seconds |
| RetCode: 0 |
| Status: OK |
| PackageFile: NanoStringQCPro_1.24.0.zip |
| PackageFileSize: 582 KiB |
##############################################################################
##############################################################################
###
### Running command:
###
### rm -rf NanoStringQCPro.buildbin-libdir && mkdir NanoStringQCPro.buildbin-libdir && C:\Users\biocbuild\bbs-3.13-bioc\R\bin\R.exe CMD INSTALL --merge-multiarch --build --library=NanoStringQCPro.buildbin-libdir NanoStringQCPro_1.24.0.tar.gz
###
##############################################################################
##############################################################################
install for i386
* installing *source* package 'NanoStringQCPro' ...
** using staged installation
** R
** data
*** moving datasets to lazyload DB
** inst
** byte-compile and prepare package for lazy loading
** help
*** installing help indices
converting help for package 'NanoStringQCPro'
finding HTML links ... done
NanoStringQCPro html
RccSet-class html
finding level-2 HTML links ... done
RccSet html
addCodesetAnnotation html
addQCFlags html
allSumPlot html
assessHousekeeping html
bdPlot html
buildCodesetAnnotation html
checkRccSet html
colByCovar html
colByFun html
contentNorm html
copyRccSet html
countsInBlankSamples_verticalPlot html
ctrlsOverviewPlot html
ctrlsZprimePlot html
cutoffByMMAD html
cutoffByVar html
dCoVar html
densityPlot html
example_rccSet html
flagSamplesCount html
flagSamplesCtrl html
flagSamplesTech html
fovPlot html
geneClustering html
getBackground html
getBlankLabel html
getSpikeInInput html
iqrPlot html
lodAssess html
lodPlot html
makeQCReport html
myCols html
nSolverBackground html
nSolverCsv.to.pdata_fdata_adata html
negCtrlsByLane html
negCtrlsByLane_verticalPlot html
negCtrlsPairs html
negCtrlsPlot html
newRccSet html
panelCor html
pcaPlot html
pdata_fdata_adata.to.rccSet html
posCtrlNorm html
posNormFactPlot html
posR2Plot html
posRatioPlot html
posSlopePlot html
posSumVsAllSumPlot html
preprocRccSet html
presAbsCall html
previewPNG html
rccFiles.to.pdata_fdata_adata html
readCdrDesignData html
readRcc html
readRccBatch html
readRccCollectorToolExport html
readRlf html
sampleClustering html
scatterPair html
subtractBackground html
zfacFun html
** building package indices
** testing if installed package can be loaded from temporary location
** testing if installed package can be loaded from final location
** testing if installed package keeps a record of temporary installation path
install for x64
* installing *source* package 'NanoStringQCPro' ...
** testing if installed package can be loaded
* MD5 sums
packaged installation of 'NanoStringQCPro' as NanoStringQCPro_1.24.0.zip
* DONE (NanoStringQCPro)