| Back to Multiple platform build/check report for BioC 3.13 | 
  | 
This page was generated on 2021-10-15 15:06:18 -0400 (Fri, 15 Oct 2021).
| 
To the developers/maintainers of the ReactomeContentService4R package: - Please allow up to 24 hours (and sometimes 48 hours) for your latest push to git@git.bioconductor.org:packages/ReactomeContentService4R.git to reflect on this report. See How and When does the builder pull? When will my changes propagate? here for more information. - Make sure to use the following settings in order to reproduce any error or warning you see on this page.  | 
| Package 1532/2041 | Hostname | OS / Arch | INSTALL | BUILD | CHECK | BUILD BIN | ||||||||
| ReactomeContentService4R 1.0.0  (landing page) Chi-Lam Poon 
  | nebbiolo1 | Linux (Ubuntu 20.04.2 LTS) / x86_64 | OK | OK | OK | |||||||||
| tokay2 | Windows Server 2012 R2 Standard / x64 | OK | OK | OK | OK | |||||||||
| machv2 | macOS 10.14.6 Mojave / x86_64 | OK | OK | OK | OK | |||||||||
| Package: ReactomeContentService4R | 
| Version: 1.0.0 | 
| Command: rm -rf ReactomeContentService4R.buildbin-libdir && mkdir ReactomeContentService4R.buildbin-libdir && C:\Users\biocbuild\bbs-3.13-bioc\R\bin\R.exe CMD INSTALL --merge-multiarch --build --library=ReactomeContentService4R.buildbin-libdir ReactomeContentService4R_1.0.0.tar.gz | 
| StartedAt: 2021-10-15 11:17:40 -0400 (Fri, 15 Oct 2021) | 
| EndedAt: 2021-10-15 11:19:05 -0400 (Fri, 15 Oct 2021) | 
| EllapsedTime: 85.0 seconds | 
| RetCode: 0 | 
| Status: OK | 
| PackageFile: ReactomeContentService4R_1.0.0.zip | 
| PackageFileSize: 1.168 MiB | 
##############################################################################
##############################################################################
###
### Running command:
###
###   rm -rf ReactomeContentService4R.buildbin-libdir && mkdir ReactomeContentService4R.buildbin-libdir && C:\Users\biocbuild\bbs-3.13-bioc\R\bin\R.exe CMD INSTALL --merge-multiarch --build --library=ReactomeContentService4R.buildbin-libdir ReactomeContentService4R_1.0.0.tar.gz
###
##############################################################################
##############################################################################
install for i386
* installing *source* package 'ReactomeContentService4R' ...
** using staged installation
** R
** inst
** byte-compile and prepare package for lazy loading
** help
*** installing help indices
  converting help for package 'ReactomeContentService4R'
    finding HTML links ... done
    ReactomeContentService4R-package        html  
    discover                                html  
    exportEventFile                         html  
    exportImage                             html  
    finding level-2 HTML links ... done
    getEntities                             html  
    getEventsHierarchy                      html  
    getOrthology                            html  
    getParticipants                         html  
    getPathways                             html  
    getPerson                               html  
    getSchemaClass                          html  
    getSpecies                              html  
    listSearchItems                         html  
    mapId                                   html  
    query                                   html  
    searchQuery                             html  
    spellCheck                              html  
** building package indices
** installing vignettes
** testing if installed package can be loaded from temporary location
** testing if installed package can be loaded from final location
** testing if installed package keeps a record of temporary installation path
install for x64
* installing *source* package 'ReactomeContentService4R' ...
** testing if installed package can be loaded
* MD5 sums
packaged installation of 'ReactomeContentService4R' as ReactomeContentService4R_1.0.0.zip
* DONE (ReactomeContentService4R)