| Back to Multiple platform build/check report for BioC 3.13 |
|
This page was generated on 2021-10-15 15:06:50 -0400 (Fri, 15 Oct 2021).
|
To the developers/maintainers of the Rhdf5lib package: - Please allow up to 24 hours (and sometimes 48 hours) for your latest push to git@git.bioconductor.org:packages/Rhdf5lib.git to reflect on this report. See How and When does the builder pull? When will my changes propagate? here for more information. - Make sure to use the following settings in order to reproduce any error or warning you see on this page. |
| Package 1576/2041 | Hostname | OS / Arch | INSTALL | BUILD | CHECK | BUILD BIN | ||||||||
| Rhdf5lib 1.14.2 (landing page) Mike Smith
| nebbiolo1 | Linux (Ubuntu 20.04.2 LTS) / x86_64 | OK | OK | OK | |||||||||
| tokay2 | Windows Server 2012 R2 Standard / x64 | OK | OK | OK | OK | |||||||||
| machv2 | macOS 10.14.6 Mojave / x86_64 | OK | OK | OK | OK | |||||||||
| Package: Rhdf5lib |
| Version: 1.14.2 |
| Command: /Library/Frameworks/R.framework/Versions/Current/Resources/bin/R CMD build --keep-empty-dirs --no-resave-data Rhdf5lib |
| StartedAt: 2021-10-14 14:22:17 -0400 (Thu, 14 Oct 2021) |
| EndedAt: 2021-10-14 14:27:51 -0400 (Thu, 14 Oct 2021) |
| EllapsedTime: 334.7 seconds |
| RetCode: 0 |
| Status: OK |
| PackageFile: Rhdf5lib_1.14.2.tar.gz |
| PackageFileSize: 9.526 MiB |
############################################################################## ############################################################################## ### ### Running command: ### ### /Library/Frameworks/R.framework/Versions/Current/Resources/bin/R CMD build --keep-empty-dirs --no-resave-data Rhdf5lib ### ############################################################################## ############################################################################## * checking for file ‘Rhdf5lib/DESCRIPTION’ ... OK * preparing ‘Rhdf5lib’: * checking DESCRIPTION meta-information ... OK * cleaning src * running ‘cleanup’ * installing the package to build vignettes * creating vignettes ... OK * cleaning src * running ‘cleanup’ * checking for LF line-endings in source and make files and shell scripts * checking for empty or unneeded directories * building ‘Rhdf5lib_1.14.2.tar.gz’