| Back to Multiple platform build/check report for BioC 3.13 | 
 | 
This page was generated on 2021-10-15 15:06:24 -0400 (Fri, 15 Oct 2021).
| To the developers/maintainers of the Structstrings package: - Please allow up to 24 hours (and sometimes 48 hours) for your latest push to git@git.bioconductor.org:packages/Structstrings.git to reflect on this report. See How and When does the builder pull? When will my changes propagate? here for more information. - Make sure to use the following settings in order to reproduce any error or warning you see on this page. | 
| Package 1863/2041 | Hostname | OS / Arch | INSTALL | BUILD | CHECK | BUILD BIN | ||||||||
| Structstrings 1.8.0  (landing page) Felix G.M. Ernst 
 | nebbiolo1 | Linux (Ubuntu 20.04.2 LTS) / x86_64 | OK | OK | OK |  | ||||||||
| tokay2 | Windows Server 2012 R2 Standard / x64 | OK | OK | OK | OK |  | ||||||||
| machv2 | macOS 10.14.6 Mojave / x86_64 | OK | OK | OK | OK |  | ||||||||
| Package: Structstrings | 
| Version: 1.8.0 | 
| Command: C:\Users\biocbuild\bbs-3.13-bioc\R\bin\R.exe CMD check --force-multiarch --install=check:Structstrings.install-out.txt --library=C:\Users\biocbuild\bbs-3.13-bioc\R\library --no-vignettes --timings Structstrings_1.8.0.tar.gz | 
| StartedAt: 2021-10-15 06:17:11 -0400 (Fri, 15 Oct 2021) | 
| EndedAt: 2021-10-15 06:22:34 -0400 (Fri, 15 Oct 2021) | 
| EllapsedTime: 323.6 seconds | 
| RetCode: 0 | 
| Status: OK | 
| CheckDir: Structstrings.Rcheck | 
| Warnings: 0 | 
############################################################################## ############################################################################## ### ### Running command: ### ### C:\Users\biocbuild\bbs-3.13-bioc\R\bin\R.exe CMD check --force-multiarch --install=check:Structstrings.install-out.txt --library=C:\Users\biocbuild\bbs-3.13-bioc\R\library --no-vignettes --timings Structstrings_1.8.0.tar.gz ### ############################################################################## ############################################################################## * using log directory 'C:/Users/biocbuild/bbs-3.13-bioc/meat/Structstrings.Rcheck' * using R version 4.1.1 (2021-08-10) * using platform: x86_64-w64-mingw32 (64-bit) * using session charset: ISO8859-1 * using option '--no-vignettes' * checking for file 'Structstrings/DESCRIPTION' ... OK * this is package 'Structstrings' version '1.8.0' * package encoding: UTF-8 * checking package namespace information ... OK * checking package dependencies ... OK * checking if this is a source package ... OK * checking if there is a namespace ... OK * checking for hidden files and directories ... OK * checking for portable file names ... OK * checking whether package 'Structstrings' can be installed ... OK * checking installed package size ... OK * checking package directory ... OK * checking 'build' directory ... OK * checking DESCRIPTION meta-information ... OK * checking top-level files ... OK * checking for left-over files ... OK * checking index information ... OK * checking package subdirectories ... OK * checking R files for non-ASCII characters ... OK * checking R files for syntax errors ... OK * loading checks for arch 'i386' ** checking whether the package can be loaded ... OK ** checking whether the package can be loaded with stated dependencies ... OK ** checking whether the package can be unloaded cleanly ... OK ** checking whether the namespace can be loaded with stated dependencies ... OK ** checking whether the namespace can be unloaded cleanly ... OK * loading checks for arch 'x64' ** checking whether the package can be loaded ... OK ** checking whether the package can be loaded with stated dependencies ... OK ** checking whether the package can be unloaded cleanly ... OK ** checking whether the namespace can be loaded with stated dependencies ... OK ** checking whether the namespace can be unloaded cleanly ... OK * checking dependencies in R code ... NOTE Unexported objects imported by ':::' calls: 'Biostrings:::.XStringSet.show_frame_header' 'S4Vectors:::new_SimpleList_from_list' See the note in ?`:::` about the use of this operator. * checking S3 generic/method consistency ... OK * checking replacement functions ... OK * checking foreign function calls ... OK * checking R code for possible problems ... OK * checking Rd files ... OK * checking Rd metadata ... OK * checking Rd cross-references ... OK * checking for missing documentation entries ... OK * checking for code/documentation mismatches ... OK * checking Rd \usage sections ... OK * checking Rd contents ... OK * checking for unstated dependencies in examples ... OK * checking contents of 'data' directory ... OK * checking data for non-ASCII characters ... OK * checking data for ASCII and uncompressed saves ... OK * checking line endings in C/C++/Fortran sources/headers ... OK * checking compiled code ... NOTE Note: information on .o files for i386 is not available Note: information on .o files for x64 is not available File 'C:/Users/biocbuild/bbs-3.13-bioc/R/library/Structstrings/libs/i386/Structstrings.dll': Found 'abort', possibly from 'abort' (C), 'runtime' (Fortran) File 'C:/Users/biocbuild/bbs-3.13-bioc/R/library/Structstrings/libs/x64/Structstrings.dll': Found 'abort', possibly from 'abort' (C), 'runtime' (Fortran) Compiled code should not call entry points which might terminate R nor write to stdout/stderr instead of to the console, nor use Fortran I/O nor system RNGs. The detected symbols are linked into the code but might come from libraries and not actually be called. See 'Writing portable packages' in the 'Writing R Extensions' manual. * checking files in 'vignettes' ... OK * checking examples ... ** running examples for arch 'i386' ... OK ** running examples for arch 'x64' ... OK * checking for unstated dependencies in 'tests' ... OK * checking tests ... ** running tests for arch 'i386' ... Running 'testthat.R' OK ** running tests for arch 'x64' ... Running 'testthat.R' OK * checking for unstated dependencies in vignettes ... OK * checking package vignettes in 'inst/doc' ... OK * checking running R code from vignettes ... SKIPPED * checking re-building of vignette outputs ... SKIPPED * checking PDF version of manual ... OK * DONE Status: 2 NOTEs See 'C:/Users/biocbuild/bbs-3.13-bioc/meat/Structstrings.Rcheck/00check.log' for details.
Structstrings.Rcheck/00install.out
##############################################################################
##############################################################################
###
### Running command:
###
###   C:\cygwin\bin\curl.exe -O http://155.52.207.165/BBS/3.13/bioc/src/contrib/Structstrings_1.8.0.tar.gz && rm -rf Structstrings.buildbin-libdir && mkdir Structstrings.buildbin-libdir && C:\Users\biocbuild\bbs-3.13-bioc\R\bin\R.exe CMD INSTALL --merge-multiarch --build --library=Structstrings.buildbin-libdir Structstrings_1.8.0.tar.gz && C:\Users\biocbuild\bbs-3.13-bioc\R\bin\R.exe CMD INSTALL Structstrings_1.8.0.zip && rm Structstrings_1.8.0.tar.gz Structstrings_1.8.0.zip
###
##############################################################################
##############################################################################
  % Total    % Received % Xferd  Average Speed   Time    Time     Time  Current
                                 Dload  Upload   Total   Spent    Left  Speed
  0     0    0     0    0     0      0      0 --:--:-- --:--:-- --:--:--     0
100 66941  100 66941    0     0   423k      0 --:--:-- --:--:-- --:--:--  427k
install for i386
* installing *source* package 'Structstrings' ...
** using staged installation
** libs
"C:/rtools40/mingw32/bin/"gcc  -I"C:/Users/BIOCBU~1/BBS-3~1.13-/R/include" -DNDEBUG  -I'C:/Users/biocbuild/bbs-3.13-bioc/R/library/IRanges/include' -I'C:/Users/biocbuild/bbs-3.13-bioc/R/library/S4Vectors/include'   -I"c:/extsoft/include"     -O2 -Wall  -std=gnu99 -mfpmath=sse -msse2 -mstackrealign  -c DotBracketDataFrame_class.c -o DotBracketDataFrame_class.o
"C:/rtools40/mingw32/bin/"gcc  -I"C:/Users/BIOCBU~1/BBS-3~1.13-/R/include" -DNDEBUG  -I'C:/Users/biocbuild/bbs-3.13-bioc/R/library/IRanges/include' -I'C:/Users/biocbuild/bbs-3.13-bioc/R/library/S4Vectors/include'   -I"c:/extsoft/include"     -O2 -Wall  -std=gnu99 -mfpmath=sse -msse2 -mstackrealign  -c IRanges_stubs.c -o IRanges_stubs.o
"C:/rtools40/mingw32/bin/"gcc  -I"C:/Users/BIOCBU~1/BBS-3~1.13-/R/include" -DNDEBUG  -I'C:/Users/biocbuild/bbs-3.13-bioc/R/library/IRanges/include' -I'C:/Users/biocbuild/bbs-3.13-bioc/R/library/S4Vectors/include'   -I"c:/extsoft/include"     -O2 -Wall  -std=gnu99 -mfpmath=sse -msse2 -mstackrealign  -c R_init_Structstrings.c -o R_init_Structstrings.o
"C:/rtools40/mingw32/bin/"gcc  -I"C:/Users/BIOCBU~1/BBS-3~1.13-/R/include" -DNDEBUG  -I'C:/Users/biocbuild/bbs-3.13-bioc/R/library/IRanges/include' -I'C:/Users/biocbuild/bbs-3.13-bioc/R/library/S4Vectors/include'   -I"c:/extsoft/include"     -O2 -Wall  -std=gnu99 -mfpmath=sse -msse2 -mstackrealign  -c S4Vectors_stubs.c -o S4Vectors_stubs.o
"C:/rtools40/mingw32/bin/"gcc  -I"C:/Users/BIOCBU~1/BBS-3~1.13-/R/include" -DNDEBUG  -I'C:/Users/biocbuild/bbs-3.13-bioc/R/library/IRanges/include' -I'C:/Users/biocbuild/bbs-3.13-bioc/R/library/S4Vectors/include'   -I"c:/extsoft/include"     -O2 -Wall  -std=gnu99 -mfpmath=sse -msse2 -mstackrealign  -c utils.c -o utils.o
C:/rtools40/mingw32/bin/gcc -shared -s -static-libgcc -o Structstrings.dll tmp.def DotBracketDataFrame_class.o IRanges_stubs.o R_init_Structstrings.o S4Vectors_stubs.o utils.o -Lc:/extsoft/lib/i386 -Lc:/extsoft/lib -LC:/Users/BIOCBU~1/BBS-3~1.13-/R/bin/i386 -lR
installing to C:/Users/biocbuild/bbs-3.13-bioc/meat/Structstrings.buildbin-libdir/00LOCK-Structstrings/00new/Structstrings/libs/i386
** R
** data
** inst
** byte-compile and prepare package for lazy loading
** help
*** installing help indices
  converting help for package 'Structstrings'
    finding HTML links ... done
    DotBracketDataFrame                     html  
    DotBracketString                        html  
    DotBracketStringSet-io                  html  
    LoopIndexList                           html  
    Structstrings-data                      html  
REDIRECT:topic	 Previous alias or file overwritten by alias: C:/Users/biocbuild/bbs-3.13-bioc/meat/Structstrings.buildbin-libdir/00LOCK-Structstrings/00new/Structstrings/help/dbs.html
    finding level-2 HTML links ... done
    Structstrings-internals                 html  
    Structstrings                           html  
    StructuredXStringSet                    html  
    convertAnnotation                       html  
    getBasePairing                          html  
** building package indices
** installing vignettes
** testing if installed package can be loaded from temporary location
** testing if installed package can be loaded from final location
** testing if installed package keeps a record of temporary installation path
install for x64
* installing *source* package 'Structstrings' ...
** libs
"C:/rtools40/mingw64/bin/"gcc  -I"C:/Users/BIOCBU~1/BBS-3~1.13-/R/include" -DNDEBUG  -I'C:/Users/biocbuild/bbs-3.13-bioc/R/library/IRanges/include' -I'C:/Users/biocbuild/bbs-3.13-bioc/R/library/S4Vectors/include'   -I"C:/extsoft/include"     -O2 -Wall  -std=gnu99 -mfpmath=sse -msse2 -mstackrealign  -c DotBracketDataFrame_class.c -o DotBracketDataFrame_class.o
"C:/rtools40/mingw64/bin/"gcc  -I"C:/Users/BIOCBU~1/BBS-3~1.13-/R/include" -DNDEBUG  -I'C:/Users/biocbuild/bbs-3.13-bioc/R/library/IRanges/include' -I'C:/Users/biocbuild/bbs-3.13-bioc/R/library/S4Vectors/include'   -I"C:/extsoft/include"     -O2 -Wall  -std=gnu99 -mfpmath=sse -msse2 -mstackrealign  -c IRanges_stubs.c -o IRanges_stubs.o
"C:/rtools40/mingw64/bin/"gcc  -I"C:/Users/BIOCBU~1/BBS-3~1.13-/R/include" -DNDEBUG  -I'C:/Users/biocbuild/bbs-3.13-bioc/R/library/IRanges/include' -I'C:/Users/biocbuild/bbs-3.13-bioc/R/library/S4Vectors/include'   -I"C:/extsoft/include"     -O2 -Wall  -std=gnu99 -mfpmath=sse -msse2 -mstackrealign  -c R_init_Structstrings.c -o R_init_Structstrings.o
"C:/rtools40/mingw64/bin/"gcc  -I"C:/Users/BIOCBU~1/BBS-3~1.13-/R/include" -DNDEBUG  -I'C:/Users/biocbuild/bbs-3.13-bioc/R/library/IRanges/include' -I'C:/Users/biocbuild/bbs-3.13-bioc/R/library/S4Vectors/include'   -I"C:/extsoft/include"     -O2 -Wall  -std=gnu99 -mfpmath=sse -msse2 -mstackrealign  -c S4Vectors_stubs.c -o S4Vectors_stubs.o
"C:/rtools40/mingw64/bin/"gcc  -I"C:/Users/BIOCBU~1/BBS-3~1.13-/R/include" -DNDEBUG  -I'C:/Users/biocbuild/bbs-3.13-bioc/R/library/IRanges/include' -I'C:/Users/biocbuild/bbs-3.13-bioc/R/library/S4Vectors/include'   -I"C:/extsoft/include"     -O2 -Wall  -std=gnu99 -mfpmath=sse -msse2 -mstackrealign  -c utils.c -o utils.o
C:/rtools40/mingw64/bin/gcc -shared -s -static-libgcc -o Structstrings.dll tmp.def DotBracketDataFrame_class.o IRanges_stubs.o R_init_Structstrings.o S4Vectors_stubs.o utils.o -LC:/extsoft/lib/x64 -LC:/extsoft/lib -LC:/Users/BIOCBU~1/BBS-3~1.13-/R/bin/x64 -lR
installing to C:/Users/biocbuild/bbs-3.13-bioc/meat/Structstrings.buildbin-libdir/Structstrings/libs/x64
** testing if installed package can be loaded
* MD5 sums
packaged installation of 'Structstrings' as Structstrings_1.8.0.zip
* DONE (Structstrings)
* installing to library 'C:/Users/biocbuild/bbs-3.13-bioc/R/library'
package 'Structstrings' successfully unpacked and MD5 sums checked
| Structstrings.Rcheck/tests_i386/testthat.Rout 
R version 4.1.1 (2021-08-10) -- "Kick Things"
Copyright (C) 2021 The R Foundation for Statistical Computing
Platform: i386-w64-mingw32/i386 (32-bit)
R is free software and comes with ABSOLUTELY NO WARRANTY.
You are welcome to redistribute it under certain conditions.
Type 'license()' or 'licence()' for distribution details.
R is a collaborative project with many contributors.
Type 'contributors()' for more information and
'citation()' on how to cite R or R packages in publications.
Type 'demo()' for some demos, 'help()' for on-line help, or
'help.start()' for an HTML browser interface to help.
Type 'q()' to quit R.
> library(testthat)
> library(Structstrings)
Loading required package: S4Vectors
Loading required package: stats4
Loading required package: BiocGenerics
Loading required package: parallel
Attaching package: 'BiocGenerics'
The following objects are masked from 'package:parallel':
    clusterApply, clusterApplyLB, clusterCall, clusterEvalQ,
    clusterExport, clusterMap, parApply, parCapply, parLapply,
    parLapplyLB, parRapply, parSapply, parSapplyLB
The following objects are masked from 'package:stats':
    IQR, mad, sd, var, xtabs
The following objects are masked from 'package:base':
    Filter, Find, Map, Position, Reduce, anyDuplicated, append,
    as.data.frame, basename, cbind, colnames, dirname, do.call,
    duplicated, eval, evalq, get, grep, grepl, intersect, is.unsorted,
    lapply, mapply, match, mget, order, paste, pmax, pmax.int, pmin,
    pmin.int, rank, rbind, rownames, sapply, setdiff, sort, table,
    tapply, union, unique, unsplit, which.max, which.min
Attaching package: 'S4Vectors'
The following objects are masked from 'package:base':
    I, expand.grid, unname
Loading required package: IRanges
Attaching package: 'IRanges'
The following object is masked from 'package:grDevices':
    windows
Loading required package: Biostrings
Loading required package: XVector
Loading required package: GenomeInfoDb
Attaching package: 'Biostrings'
The following object is masked from 'package:base':
    strsplit
> 
> test_check("Structstrings")
[ FAIL 0 | WARN 0 | SKIP 0 | PASS 174 ]
> 
> proc.time()
   user  system elapsed 
  89.60    1.28   90.87 
 | Structstrings.Rcheck/tests_x64/testthat.Rout 
R version 4.1.1 (2021-08-10) -- "Kick Things"
Copyright (C) 2021 The R Foundation for Statistical Computing
Platform: x86_64-w64-mingw32/x64 (64-bit)
R is free software and comes with ABSOLUTELY NO WARRANTY.
You are welcome to redistribute it under certain conditions.
Type 'license()' or 'licence()' for distribution details.
R is a collaborative project with many contributors.
Type 'contributors()' for more information and
'citation()' on how to cite R or R packages in publications.
Type 'demo()' for some demos, 'help()' for on-line help, or
'help.start()' for an HTML browser interface to help.
Type 'q()' to quit R.
> library(testthat)
> library(Structstrings)
Loading required package: S4Vectors
Loading required package: stats4
Loading required package: BiocGenerics
Loading required package: parallel
Attaching package: 'BiocGenerics'
The following objects are masked from 'package:parallel':
    clusterApply, clusterApplyLB, clusterCall, clusterEvalQ,
    clusterExport, clusterMap, parApply, parCapply, parLapply,
    parLapplyLB, parRapply, parSapply, parSapplyLB
The following objects are masked from 'package:stats':
    IQR, mad, sd, var, xtabs
The following objects are masked from 'package:base':
    Filter, Find, Map, Position, Reduce, anyDuplicated, append,
    as.data.frame, basename, cbind, colnames, dirname, do.call,
    duplicated, eval, evalq, get, grep, grepl, intersect, is.unsorted,
    lapply, mapply, match, mget, order, paste, pmax, pmax.int, pmin,
    pmin.int, rank, rbind, rownames, sapply, setdiff, sort, table,
    tapply, union, unique, unsplit, which.max, which.min
Attaching package: 'S4Vectors'
The following objects are masked from 'package:base':
    I, expand.grid, unname
Loading required package: IRanges
Attaching package: 'IRanges'
The following object is masked from 'package:grDevices':
    windows
Loading required package: Biostrings
Loading required package: XVector
Loading required package: GenomeInfoDb
Attaching package: 'Biostrings'
The following object is masked from 'package:base':
    strsplit
> 
> test_check("Structstrings")
[ FAIL 0 | WARN 0 | SKIP 0 | PASS 174 ]
> 
> proc.time()
   user  system elapsed 
  97.37    0.45   97.82 
 | 
| Structstrings.Rcheck/examples_i386/Structstrings-Ex.timings 
 | Structstrings.Rcheck/examples_x64/Structstrings-Ex.timings 
 |