| Back to Multiple platform build/check report for BioC 3.13 |
|
This page was generated on 2021-10-15 15:06:27 -0400 (Fri, 15 Oct 2021).
|
To the developers/maintainers of the VariantFiltering package: - Please allow up to 24 hours (and sometimes 48 hours) for your latest push to git@git.bioconductor.org:packages/VariantFiltering.git to reflect on this report. See How and When does the builder pull? When will my changes propagate? here for more information. - Make sure to use the following settings in order to reproduce any error or warning you see on this page. |
| Package 1997/2041 | Hostname | OS / Arch | INSTALL | BUILD | CHECK | BUILD BIN | ||||||||
| VariantFiltering 1.28.0 (landing page) Robert Castelo
| nebbiolo1 | Linux (Ubuntu 20.04.2 LTS) / x86_64 | OK | OK | OK | |||||||||
| tokay2 | Windows Server 2012 R2 Standard / x64 | OK | OK | OK | OK | |||||||||
| machv2 | macOS 10.14.6 Mojave / x86_64 | OK | OK | OK | OK | |||||||||
| Package: VariantFiltering |
| Version: 1.28.0 |
| Command: C:\cygwin\bin\curl.exe -O http://155.52.207.165/BBS/3.13/bioc/src/contrib/VariantFiltering_1.28.0.tar.gz && rm -rf VariantFiltering.buildbin-libdir && mkdir VariantFiltering.buildbin-libdir && C:\Users\biocbuild\bbs-3.13-bioc\R\bin\R.exe CMD INSTALL --merge-multiarch --build --library=VariantFiltering.buildbin-libdir VariantFiltering_1.28.0.tar.gz && C:\Users\biocbuild\bbs-3.13-bioc\R\bin\R.exe CMD INSTALL VariantFiltering_1.28.0.zip && rm VariantFiltering_1.28.0.tar.gz VariantFiltering_1.28.0.zip |
| StartedAt: 2021-10-14 10:59:00 -0400 (Thu, 14 Oct 2021) |
| EndedAt: 2021-10-14 11:01:00 -0400 (Thu, 14 Oct 2021) |
| EllapsedTime: 119.6 seconds |
| RetCode: 0 |
| Status: OK |
##############################################################################
##############################################################################
###
### Running command:
###
### C:\cygwin\bin\curl.exe -O http://155.52.207.165/BBS/3.13/bioc/src/contrib/VariantFiltering_1.28.0.tar.gz && rm -rf VariantFiltering.buildbin-libdir && mkdir VariantFiltering.buildbin-libdir && C:\Users\biocbuild\bbs-3.13-bioc\R\bin\R.exe CMD INSTALL --merge-multiarch --build --library=VariantFiltering.buildbin-libdir VariantFiltering_1.28.0.tar.gz && C:\Users\biocbuild\bbs-3.13-bioc\R\bin\R.exe CMD INSTALL VariantFiltering_1.28.0.zip && rm VariantFiltering_1.28.0.tar.gz VariantFiltering_1.28.0.zip
###
##############################################################################
##############################################################################
% Total % Received % Xferd Average Speed Time Time Time Current
Dload Upload Total Spent Left Speed
0 0 0 0 0 0 0 0 --:--:-- --:--:-- --:--:-- 0
66 3211k 66 2140k 0 0 2568k 0 0:00:01 --:--:-- 0:00:01 2567k
100 3211k 100 3211k 0 0 2909k 0 0:00:01 0:00:01 --:--:-- 2911k
install for i386
* installing *source* package 'VariantFiltering' ...
** using staged installation
** libs
"C:/rtools40/mingw32/bin/"gcc -I"C:/Users/BIOCBU~1/BBS-3~1.13-/R/include" -DNDEBUG -I'C:/Users/biocbuild/bbs-3.13-bioc/R/library/S4Vectors/include' -I'C:/Users/biocbuild/bbs-3.13-bioc/R/library/IRanges/include' -I'C:/Users/biocbuild/bbs-3.13-bioc/R/library/XVector/include' -I'C:/Users/biocbuild/bbs-3.13-bioc/R/library/Biostrings/include' -I"c:/extsoft/include" -O2 -Wall -std=gnu99 -mfpmath=sse -msse2 -mstackrealign -c Biostrings_stubs.c -o Biostrings_stubs.o
"C:/rtools40/mingw32/bin/"gcc -I"C:/Users/BIOCBU~1/BBS-3~1.13-/R/include" -DNDEBUG -I'C:/Users/biocbuild/bbs-3.13-bioc/R/library/S4Vectors/include' -I'C:/Users/biocbuild/bbs-3.13-bioc/R/library/IRanges/include' -I'C:/Users/biocbuild/bbs-3.13-bioc/R/library/XVector/include' -I'C:/Users/biocbuild/bbs-3.13-bioc/R/library/Biostrings/include' -I"c:/extsoft/include" -O2 -Wall -std=gnu99 -mfpmath=sse -msse2 -mstackrealign -c R_init_VariantFiltering.c -o R_init_VariantFiltering.o
"C:/rtools40/mingw32/bin/"gcc -I"C:/Users/BIOCBU~1/BBS-3~1.13-/R/include" -DNDEBUG -I'C:/Users/biocbuild/bbs-3.13-bioc/R/library/S4Vectors/include' -I'C:/Users/biocbuild/bbs-3.13-bioc/R/library/IRanges/include' -I'C:/Users/biocbuild/bbs-3.13-bioc/R/library/XVector/include' -I'C:/Users/biocbuild/bbs-3.13-bioc/R/library/Biostrings/include' -I"c:/extsoft/include" -O2 -Wall -std=gnu99 -mfpmath=sse -msse2 -mstackrealign -c methods-WeightMatrix.c -o methods-WeightMatrix.o
C:/rtools40/mingw32/bin/gcc -shared -s -static-libgcc -o VariantFiltering.dll tmp.def Biostrings_stubs.o R_init_VariantFiltering.o methods-WeightMatrix.o -Lc:/extsoft/lib/i386 -Lc:/extsoft/lib -LC:/Users/BIOCBU~1/BBS-3~1.13-/R/bin/i386 -lR
installing to C:/Users/biocbuild/bbs-3.13-bioc/meat/VariantFiltering.buildbin-libdir/00LOCK-VariantFiltering/00new/VariantFiltering/libs/i386
** R
** inst
** byte-compile and prepare package for lazy loading
** help
*** installing help indices
converting help for package 'VariantFiltering'
finding HTML links ... done
GenePhylostrataDb-class html
VariantFiltering-defunct html
VariantFiltering-deprecated html
finding level-2 HTML links ... done
VariantFiltering-package html
VariantFilteringParam-class html
VariantFilteringResults-class html
VariantType-class html
WeightMatrix-class html
autosomalDominant html
autosomalRecessiveHeterozygous html
autosomalRecessiveHomozygous html
deNovo html
readAAradicalChangeMatrix html
unrelatedIndividuals html
xLinked html
** building package indices
** installing vignettes
** testing if installed package can be loaded from temporary location
** testing if installed package can be loaded from final location
** testing if installed package keeps a record of temporary installation path
install for x64
* installing *source* package 'VariantFiltering' ...
** libs
"C:/rtools40/mingw64/bin/"gcc -I"C:/Users/BIOCBU~1/BBS-3~1.13-/R/include" -DNDEBUG -I'C:/Users/biocbuild/bbs-3.13-bioc/R/library/S4Vectors/include' -I'C:/Users/biocbuild/bbs-3.13-bioc/R/library/IRanges/include' -I'C:/Users/biocbuild/bbs-3.13-bioc/R/library/XVector/include' -I'C:/Users/biocbuild/bbs-3.13-bioc/R/library/Biostrings/include' -I"C:/extsoft/include" -O2 -Wall -std=gnu99 -mfpmath=sse -msse2 -mstackrealign -c Biostrings_stubs.c -o Biostrings_stubs.o
"C:/rtools40/mingw64/bin/"gcc -I"C:/Users/BIOCBU~1/BBS-3~1.13-/R/include" -DNDEBUG -I'C:/Users/biocbuild/bbs-3.13-bioc/R/library/S4Vectors/include' -I'C:/Users/biocbuild/bbs-3.13-bioc/R/library/IRanges/include' -I'C:/Users/biocbuild/bbs-3.13-bioc/R/library/XVector/include' -I'C:/Users/biocbuild/bbs-3.13-bioc/R/library/Biostrings/include' -I"C:/extsoft/include" -O2 -Wall -std=gnu99 -mfpmath=sse -msse2 -mstackrealign -c R_init_VariantFiltering.c -o R_init_VariantFiltering.o
"C:/rtools40/mingw64/bin/"gcc -I"C:/Users/BIOCBU~1/BBS-3~1.13-/R/include" -DNDEBUG -I'C:/Users/biocbuild/bbs-3.13-bioc/R/library/S4Vectors/include' -I'C:/Users/biocbuild/bbs-3.13-bioc/R/library/IRanges/include' -I'C:/Users/biocbuild/bbs-3.13-bioc/R/library/XVector/include' -I'C:/Users/biocbuild/bbs-3.13-bioc/R/library/Biostrings/include' -I"C:/extsoft/include" -O2 -Wall -std=gnu99 -mfpmath=sse -msse2 -mstackrealign -c methods-WeightMatrix.c -o methods-WeightMatrix.o
C:/rtools40/mingw64/bin/gcc -shared -s -static-libgcc -o VariantFiltering.dll tmp.def Biostrings_stubs.o R_init_VariantFiltering.o methods-WeightMatrix.o -LC:/extsoft/lib/x64 -LC:/extsoft/lib -LC:/Users/BIOCBU~1/BBS-3~1.13-/R/bin/x64 -lR
installing to C:/Users/biocbuild/bbs-3.13-bioc/meat/VariantFiltering.buildbin-libdir/VariantFiltering/libs/x64
** testing if installed package can be loaded
* MD5 sums
packaged installation of 'VariantFiltering' as VariantFiltering_1.28.0.zip
* DONE (VariantFiltering)
* installing to library 'C:/Users/biocbuild/bbs-3.13-bioc/R/library'
package 'VariantFiltering' successfully unpacked and MD5 sums checked