| Back to Multiple platform build/check report for BioC 3.13 |
|
This page was generated on 2021-10-15 15:05:59 -0400 (Fri, 15 Oct 2021).
|
To the developers/maintainers of the branchpointer package: - Please allow up to 24 hours (and sometimes 48 hours) for your latest push to git@git.bioconductor.org:packages/branchpointer.git to reflect on this report. See How and When does the builder pull? When will my changes propagate? here for more information. - Make sure to use the following settings in order to reproduce any error or warning you see on this page. |
| Package 210/2041 | Hostname | OS / Arch | INSTALL | BUILD | CHECK | BUILD BIN | ||||||||
| branchpointer 1.18.0 (landing page) Beth Signal
| nebbiolo1 | Linux (Ubuntu 20.04.2 LTS) / x86_64 | OK | OK | OK | |||||||||
| tokay2 | Windows Server 2012 R2 Standard / x64 | OK | OK | OK | OK | |||||||||
| machv2 | macOS 10.14.6 Mojave / x86_64 | OK | OK | OK | OK | |||||||||
| Package: branchpointer |
| Version: 1.18.0 |
| Command: C:\cygwin\bin\curl.exe -O http://155.52.207.165/BBS/3.13/bioc/src/contrib/branchpointer_1.18.0.tar.gz && rm -rf branchpointer.buildbin-libdir && mkdir branchpointer.buildbin-libdir && C:\Users\biocbuild\bbs-3.13-bioc\R\bin\R.exe CMD INSTALL --merge-multiarch --build --library=branchpointer.buildbin-libdir branchpointer_1.18.0.tar.gz && C:\Users\biocbuild\bbs-3.13-bioc\R\bin\R.exe CMD INSTALL branchpointer_1.18.0.zip && rm branchpointer_1.18.0.tar.gz branchpointer_1.18.0.zip |
| StartedAt: 2021-10-14 11:09:09 -0400 (Thu, 14 Oct 2021) |
| EndedAt: 2021-10-14 11:10:59 -0400 (Thu, 14 Oct 2021) |
| EllapsedTime: 110.3 seconds |
| RetCode: 0 |
| Status: OK |
##############################################################################
##############################################################################
###
### Running command:
###
### C:\cygwin\bin\curl.exe -O http://155.52.207.165/BBS/3.13/bioc/src/contrib/branchpointer_1.18.0.tar.gz && rm -rf branchpointer.buildbin-libdir && mkdir branchpointer.buildbin-libdir && C:\Users\biocbuild\bbs-3.13-bioc\R\bin\R.exe CMD INSTALL --merge-multiarch --build --library=branchpointer.buildbin-libdir branchpointer_1.18.0.tar.gz && C:\Users\biocbuild\bbs-3.13-bioc\R\bin\R.exe CMD INSTALL branchpointer_1.18.0.zip && rm branchpointer_1.18.0.tar.gz branchpointer_1.18.0.zip
###
##############################################################################
##############################################################################
% Total % Received % Xferd Average Speed Time Time Time Current
Dload Upload Total Spent Left Speed
0 0 0 0 0 0 0 0 --:--:-- --:--:-- --:--:-- 0
36 4716k 36 1713k 0 0 2033k 0 0:00:02 --:--:-- 0:00:02 2032k
100 4716k 100 4716k 0 0 2828k 0 0:00:01 0:00:01 --:--:-- 2831k
install for i386
* installing *source* package 'branchpointer' ...
** using staged installation
** R
** inst
** byte-compile and prepare package for lazy loading
** help
*** installing help indices
converting help for package 'branchpointer'
finding HTML links ... done
exonsToIntrons html
getBranchpointSequence html
getCanonical3SS html
getExonDists html
getPPT html
getQueryLoc html
gtfToExons html
makeBranchpointWindowForExons html
makeBranchpointWindowForSNP html
plotBranchpointWindow html
plotStructure html
predictBranchpoints html
predictionsToSummary html
readQueryFile html
** building package indices
** installing vignettes
** testing if installed package can be loaded from temporary location
** testing if installed package can be loaded from final location
** testing if installed package keeps a record of temporary installation path
install for x64
* installing *source* package 'branchpointer' ...
** testing if installed package can be loaded
* MD5 sums
packaged installation of 'branchpointer' as branchpointer_1.18.0.zip
* DONE (branchpointer)
* installing to library 'C:/Users/biocbuild/bbs-3.13-bioc/R/library'
package 'branchpointer' successfully unpacked and MD5 sums checked