| Back to Multiple platform build/check report for BioC 3.13 |
|
This page was generated on 2021-10-15 15:06:31 -0400 (Fri, 15 Oct 2021).
|
To the developers/maintainers of the chipseq package: - Please allow up to 24 hours (and sometimes 48 hours) for your latest push to git@git.bioconductor.org:packages/chipseq.git to reflect on this report. See How and When does the builder pull? When will my changes propagate? here for more information. - Make sure to use the following settings in order to reproduce any error or warning you see on this page. |
| Package 297/2041 | Hostname | OS / Arch | INSTALL | BUILD | CHECK | BUILD BIN | ||||||||
| chipseq 1.42.0 (landing page) Bioconductor Package Maintainer
| nebbiolo1 | Linux (Ubuntu 20.04.2 LTS) / x86_64 | OK | OK | WARNINGS | |||||||||
| tokay2 | Windows Server 2012 R2 Standard / x64 | OK | OK | WARNINGS | OK | |||||||||
| machv2 | macOS 10.14.6 Mojave / x86_64 | OK | OK | WARNINGS | OK | |||||||||
| Package: chipseq |
| Version: 1.42.0 |
| Command: /Library/Frameworks/R.framework/Versions/Current/Resources/bin/R CMD check --install=check:chipseq.install-out.txt --library=/Library/Frameworks/R.framework/Versions/Current/Resources/library --no-vignettes --timings chipseq_1.42.0.tar.gz |
| StartedAt: 2021-10-14 17:20:04 -0400 (Thu, 14 Oct 2021) |
| EndedAt: 2021-10-14 17:24:08 -0400 (Thu, 14 Oct 2021) |
| EllapsedTime: 244.5 seconds |
| RetCode: 0 |
| Status: WARNINGS |
| CheckDir: chipseq.Rcheck |
| Warnings: 3 |
##############################################################################
##############################################################################
###
### Running command:
###
### /Library/Frameworks/R.framework/Versions/Current/Resources/bin/R CMD check --install=check:chipseq.install-out.txt --library=/Library/Frameworks/R.framework/Versions/Current/Resources/library --no-vignettes --timings chipseq_1.42.0.tar.gz
###
##############################################################################
##############################################################################
* using log directory ‘/Users/biocbuild/bbs-3.13-bioc/meat/chipseq.Rcheck’
* using R version 4.1.1 (2021-08-10)
* using platform: x86_64-apple-darwin17.0 (64-bit)
* using session charset: UTF-8
* using option ‘--no-vignettes’
* checking for file ‘chipseq/DESCRIPTION’ ... OK
* this is package ‘chipseq’ version ‘1.42.0’
* checking package namespace information ... OK
* checking package dependencies ... OK
* checking if this is a source package ... OK
* checking if there is a namespace ... OK
* checking for hidden files and directories ... NOTE
Found the following hidden files and directories:
.git_fetch_output.txt
.git_merge_output.txt
These were most likely included in error. See section ‘Package
structure’ in the ‘Writing R Extensions’ manual.
* checking for portable file names ... OK
* checking for sufficient/correct file permissions ... OK
* checking whether package ‘chipseq’ can be installed ... OK
* checking installed package size ... OK
* checking package directory ... OK
* checking ‘build’ directory ... OK
* checking DESCRIPTION meta-information ... NOTE
Malformed Description field: should contain one or more complete sentences.
Packages listed in more than one of Depends, Imports, Suggests, Enhances:
‘methods’ ‘BiocGenerics’ ‘IRanges’ ‘GenomicRanges’ ‘ShortRead’
A package should be listed in only one of these fields.
* checking top-level files ... OK
* checking for left-over files ... OK
* checking index information ... OK
* checking package subdirectories ... OK
* checking R files for non-ASCII characters ... OK
* checking R files for syntax errors ... OK
* checking whether the package can be loaded ... OK
* checking whether the package can be loaded with stated dependencies ... OK
* checking whether the package can be unloaded cleanly ... OK
* checking whether the namespace can be loaded with stated dependencies ... OK
* checking whether the namespace can be unloaded cleanly ... OK
* checking dependencies in R code ... OK
* checking S3 generic/method consistency ... OK
* checking replacement functions ... OK
* checking foreign function calls ... OK
* checking R code for possible problems ... NOTE
.genomicContext: no visible global function definition for
‘transcripts’
.genomicContext: no visible global function definition for ‘cdsBy’
.genomicContext: no visible global function definition for
‘threeUTRsByTranscript’
.genomicContext: no visible global function definition for
‘fiveUTRsByTranscript’
.genomicContext: no visible global function definition for
‘intronsByTranscript’
.nearestTss: no visible global function definition for ‘transcripts’
.nearestTss: no visible global function definition for ‘seqlevels<-’
.nearestTss: no visible global function definition for ‘seqlevels’
applyPosByChrAndStrand: no visible global function definition for
‘seqnames’
correlation.estimate: no visible binding for global variable ‘mu’
correlation.estimate: no visible binding for global variable ‘corr’
correlationProfile : <anonymous>: no visible global function definition
for ‘subseq’
coverage.estimate: no visible binding for global variable ‘mu’
coverage.estimate: no visible binding for global variable ‘covered’
islandDepthPlot: no visible binding for global variable ‘depth’
islandDepthPlot : <anonymous>: no visible global function definition
for ‘panel.lines’
islandDepthPlot : <anonymous>: no visible global function definition
for ‘panel.xyplot’
laneSubsample: no visible global function definition for ‘seqnames’
laneSubsample: no visible global function definition for ‘GRangesList’
subsetSummary: no visible global function definition for ‘seqlengths’
subsetSummary: no visible global function definition for ‘GRanges’
subsetSummary: no visible global function definition for ‘seqnames’
subsetSummary: no visible global function definition for ‘seqlengths<-’
diffPeakSummary,RleViewsList-RleViewsList: no visible global function
definition for ‘GRanges’
estimate.mean.fraglen,GRanges: no visible global function definition
for ‘seqnames’
peakSummary,RleViewsList: no visible global function definition for
‘GRanges’
Undefined global functions or variables:
GRanges GRangesList cdsBy corr covered depth fiveUTRsByTranscript
intronsByTranscript mu panel.lines panel.xyplot seqlengths
seqlengths<- seqlevels seqlevels<- seqnames subseq
threeUTRsByTranscript transcripts
* checking Rd files ... OK
* checking Rd metadata ... OK
* checking Rd cross-references ... OK
* checking for missing documentation entries ... WARNING
Undocumented S4 methods:
generic 'densityCorr' and siglist 'GenomicRanges'
generic 'densityCorr' and siglist 'list'
All user-level objects in a package (including S4 classes and methods)
should have documentation entries.
See chapter ‘Writing R documentation files’ in the ‘Writing R
Extensions’ manual.
* checking for code/documentation mismatches ... WARNING
Codoc mismatches from documentation object 'estimate.mean.fraglen':
densityCorr
Code: function(x, ...)
Docs: function(x, shift = seq(0, 500, 5), center = FALSE, width =
seqLen * 2L, seqLen = 100L, maxDist = 500L, ...)
Argument names in docs not in code:
shift center width seqLen maxDist
Mismatches in argument names:
Position: 2 Code: ... Docs: shift
* checking Rd \usage sections ... OK
* checking Rd contents ... OK
* checking for unstated dependencies in examples ... WARNING
'library' or 'require' call not declared from: ‘BSgenome.Mmusculus.UCSC.mm9’
* checking contents of ‘data’ directory ... OK
* checking data for non-ASCII characters ... OK
* checking data for ASCII and uncompressed saves ... OK
* checking line endings in C/C++/Fortran sources/headers ... OK
* checking compiled code ... NOTE
Note: information on .o files is not available
* checking sizes of PDF files under ‘inst/doc’ ... OK
* checking files in ‘vignettes’ ... OK
* checking examples ... OK
Examples with CPU (user + system) or elapsed time > 5s
user system elapsed
diffPeakSummary 6.24 0.181 6.424
* checking for unstated dependencies in vignettes ... OK
* checking package vignettes in ‘inst/doc’ ... OK
* checking running R code from vignettes ... SKIPPED
* checking re-building of vignette outputs ... SKIPPED
* checking PDF version of manual ... OK
* DONE
Status: 3 WARNINGs, 4 NOTEs
See
‘/Users/biocbuild/bbs-3.13-bioc/meat/chipseq.Rcheck/00check.log’
for details.
chipseq.Rcheck/00install.out
############################################################################## ############################################################################## ### ### Running command: ### ### /Library/Frameworks/R.framework/Versions/Current/Resources/bin/R CMD INSTALL chipseq ### ############################################################################## ############################################################################## * installing to library ‘/Library/Frameworks/R.framework/Versions/4.1/Resources/library’ * installing *source* package ‘chipseq’ ... ** using staged installation ** libs clang -mmacosx-version-min=10.13 -I"/Library/Frameworks/R.framework/Resources/include" -DNDEBUG -I/usr/local/include -fPIC -Wall -g -O2 -c rlesumprod.c -o rlesumprod.o clang -mmacosx-version-min=10.13 -dynamiclib -Wl,-headerpad_max_install_names -undefined dynamic_lookup -single_module -multiply_defined suppress -L/Library/Frameworks/R.framework/Resources/lib -L/usr/local/lib -o chipseq.so rlesumprod.o -F/Library/Frameworks/R.framework/.. -framework R -Wl,-framework -Wl,CoreFoundation installing to /Library/Frameworks/R.framework/Versions/4.1/Resources/library/00LOCK-chipseq/00new/chipseq/libs ** R ** data ** inst ** byte-compile and prepare package for lazy loading ** help *** installing help indices ** building package indices ** installing vignettes ** testing if installed package can be loaded from temporary location ** checking absolute paths in shared objects and dynamic libraries ** testing if installed package can be loaded from final location ** testing if installed package keeps a record of temporary installation path * DONE (chipseq)
chipseq.Rcheck/chipseq-Ex.timings
| name | user | system | elapsed | |
| chipseqFilter | 0.686 | 0.293 | 0.982 | |
| coverageplot | 0.134 | 0.003 | 0.136 | |
| cstest | 0.315 | 0.010 | 0.325 | |
| diffPeakSummary | 6.240 | 0.181 | 6.424 | |
| estimate.mean.fraglen | 2.869 | 0.354 | 3.224 | |
| islandDepthPlot | 1.231 | 0.070 | 1.302 | |
| laneSubsample | 0.537 | 0.013 | 0.550 | |
| peakCutoff | 0.850 | 0.015 | 0.876 | |